{"text_format":"1","workbook":"xlsx","n_sheets":4,"sheets":["DQ Triathlon Timing Master","2015 Timing Master","Sheet2","Sheet3"],"not_rendered":{"charts":0,"images":0,"macros":0,"external_links":0,"defined_names":2,"comments":0,"pivot_tables":0},"unopened":[],"bounds":{"document_bytes":16777216,"sheet_cells":100000,"rows_first":2000,"rows_last":500,"rows_between":2000,"halvings":0,"cell_chars":16384,"cell_head_chars":4096},"cells_cut":0,"cells_raw":0,"read":"whole","date_system":"1900"}

{"sheet":"DQ Triathlon Timing Master","index":0,"n_rows":349,"n_cols":27,"rows_kept":349,"cut":false,"hidden":false,"merged":[]}
["Overall ","Bib #","Name","Category","T-size","Age","Swimmer","Race time","Swim Split","T-size","Age","Cyclist","Race time","Bike Split","T-size","Age","T-size","Age","Runnner","Race time","Run Split","Total time"]
[]
[1,"526","Rane Gibbs","Female under 10",null,null,{"$f":"C3","v":"Rane Gibbs"},"00:04:43",{"$f":"H3","v":"00:04:43"},"L",null,{"$f":"C3","v":"Rane Gibbs"},"00:29:33",{"$f":"M3-I3","v":"00:24:50"},"L",null,"M",null,{"$f":"C3","v":"Rane Gibbs"},"00:43:23",{"$f":"T3-M3","v":"00:13:50"},{"$f":"T3","v":"00:43:23"}]
[2,"527"]
[3,"532"]
[4,"548","Ali Bertrim","Female 10 +",null,null,null,"00:03:56",{"$f":"H6","v":"00:03:56"},"M",null,null,"00:24:44",{"$f":"M6-I6","v":"00:20:48"},"M",null,"M",null,null,"00:34:39",{"$f":"T6-M6","v":"00:09:55"},{"$f":"T6","v":"00:34:39"}]
[5,"534","Jasmine Geurin","Female 10 +",null,null,null,"00:04:51",{"$f":"H7","v":"00:04:51"},"M",null,null,"00:33:04",{"$f":"M7-I7","v":"00:28:13"},"m",null,"L",null,null,"00:48:34",{"$f":"T7-M7","v":"00:15:30"},{"$f":"T7","v":"00:48:34"}]
[6,"579","Sarah McCann","Female 10 +",null,null,null,"00:07:16",{"$f":"H8","v":"00:07:16"},"L",null,null,"00:37:01",{"$f":"M8-I8","v":"00:29:45"},"L",null,"L",null,null,"00:52:43",{"$f":"T8-M8","v":"00:15:42"},{"$f":"T8","v":"00:52:43"}]
[]
[7,"544","Christian Munch","Male under 10",null,null,null,"00:04:15",{"$f":"H10","v":"00:04:15"},"M",null,null,"00:25:15",{"$f":"M10-I10","v":"00:21:00"},"M",null,"M",null,null,"00:33:22",{"$f":"T10-M10","v":"00:08:07"},{"$f":"T10","v":"00:33:22"}]
[8,"547","James Bertrim","Male under 10",null,null,null,"00:04:33","00:04:33","M",null,null,"00:24:15","00:19:42","L",null,"M",null,null,"00:33:43","00:09:28","00:33:43"]
[9,"542","Kaeden Ward","Male under 10",null,null,null,"00:04:11","00:04:11","S",null,null,"00:27:10","00:22:59","S",null,"S",null,null,"00:35:04","00:07:54","00:35:04"]
[10,"543","Noah Rioux","Male under 10",null,null,null,"00:04:59","00:04:59","L",null,null,"00:26:59","00:22:00","L",null,"M",null,null,"00:35:28","00:08:29","00:35:28"]
[11,"530","Andrew Zuliani","Male under 10",null,null,null,"00:05:36","00:05:36","M",null,null,"00:31:02","00:25:26","XL",null,"L",null,null,"00:39:49","00:08:47","00:39:49",null,null,null,null,583]
[12,"531","Jackson Culin","Male under 10",null,null,null,"00:05:10","00:05:10","L",null,null,"00:28:44","00:23:34","M",null,"L",null,null,"00:40:48","00:12:04","00:40:48",null,null,null,null,584]
[13,"541","Cole Macey","Male under 10",null,null,null,"00:04:52","00:04:52","L",null,null,"00:29:32","00:24:40","S",null,"S",null,null,"00:41:03","00:11:31","00:41:03"]
[14,"549","Ethan Mourre","Male under 10",null,null,null,"00:05:39","00:05:39","M",null,null,"00:27:56","00:22:17","M",null,"M",null,null,"00:41:17","00:13:21","00:41:17"]
[15,"546","Nicholas Gauthier","Male under 10",null,null,null,"00:05:36","00:05:36","L",null,null,"00:32:00","00:26:24","M",null,"L",null,null,"00:46:06","00:14:06","00:46:06"]
[16,"540","Jerome St. Louis","Male under 10",null,null,null,"00:06:31","00:06:31","M",null,null,"00:45:22","00:38:51","M",null,"M",null,null,"00:56:35","00:11:13","00:56:35"]
[17]
[18,"577","Oliver Talillefer","Male 10 +",null,null,null,"00:03:54",{"$f":"H21","v":"00:03:54"},"M",null,null,"00:22:05",{"$f":"M21-I21","v":"00:18:11"},"M",null,"S",null,null,"00:29:22",{"$f":"T21-M21","v":"00:07:17"},{"$f":"T21","v":"00:29:22"}]
[19,"563","Robert De La Riva","Male 10 +",null,null,null,"00:04:05","00:04:05","M",null,null,"00:23:55","00:19:50","S",null,"M",null,null,"00:32:53","00:08:58","00:32:53"]
[null,"560","Henri Lefebvre ","Male 10 +",null,null,null,"00:04:17","00:04:17","L",null,null,"00:25:59","00:21:42","M",null,"s",null,null,"00:35:01","00:09:02","00:35:01"]
[null,"580","Antione Oullette","Male 10 +",null,null,null,"00:04:21","00:04:21","S",null,null,"00:25:08","00:20:47","M",null,"S",null,null,"00:35:06","00:09:58","00:35:06"]
[20,"578","Max Smith","Male 10 +",null,null,null,"00:05:08","00:05:08","L",null,null,"00:27:13","00:22:05","L",null,"L",null,null,"00:39:08","00:11:55","00:39:08"]
[21,"538","Alexandre Gauthier","Male 10 +",null,null,null,"00:04:34","00:04:34","M",null,null,"00:29:06","00:24:32","M",null,"M",null,null,"00:39:28","00:10:22","00:39:28"]
[null,"527","Alex Zuliani","Male 10 +",null,null,null,"00:05:04","00:05:04","L",null,null,"00:31:02","00:25:58","M",null,"S",null,null,"00:44:14","00:13:12","00:44:14"]
[22,"561","Liam Michaud","Male 10 +",null,null,null,"00:05:01","00:05:01","M",null,null,"00:33:51","00:28:50","M",null,"M",null,null,"00:44:44","00:10:53","00:44:44"]
[23,"562","Logan Giroux","Male 10 +",null,null,null,"00:05:59","00:05:59","L",null,null,"00:34:22","00:28:23","M",null,"L",null,null,"00:47:24","00:13:02","00:47:24"]
[24,null,null,null,null,null,null,null,"00:00:00","M",null,null,null,{"$f":"M30-I30","v":"00:00:00"},"M",null,null,null,null,null,{"$f":"T30-M30","v":"00:00:00"},{"$f":"T30","v":"00:00:00"}]
[25,null,null,null,null,null,null,null,"00:00:00","L",null,null,null,"00:00:00","L",null,"L",null,null,null,"00:00:00","00:00:00"]
[26,null,null,null,null,null,null,null,"00:00:00","M",null,null,null,"00:00:00","M",null,"M",null,null,null,"00:00:00","00:00:00"]
[27,null,null,null,null,null,null,null,"00:00:00","M",null,null,null,"00:00:00","M",null,"M",null,null,null,"00:00:00","00:00:00"]
[28,null,null,null,null,null,null,null,"00:00:00","M",null,null,null,"00:00:00","M",null,"M",null,null,null,"00:00:00","00:00:00"]
[29,null,null,null,null,null,null,null,"00:00:00","S",null,null,null,"00:00:00","S",null,"S",null,null,null,"00:00:00","00:00:00"]
[30,null,null,null,null,null,null,null,"00:00:00","s",null,null,null,"00:00:00","s",null,"s",null,null,null,"00:00:00","00:00:00"]
[31,null,null,null,null,null,null,null,"00:00:00",null,null,null,null,"00:00:00",null,null,null,null,null,null,"00:00:00","00:00:00"]
[32,null,null,null,null,null,null,null,"00:00:00",null,null,null,null,"00:00:00",null,null,null,null,null,null,"00:00:00","00:00:00"]
[33,null,null,null,null,null,null,null,"00:00:00",null,null,null,null,"00:00:00",null,null,null,null,null,null,"00:00:00","00:00:00"]
[34,null,null,null,null,null,null,null,"00:00:00",null,null,null,null,"00:00:00",null,null,null,null,null,null,"00:00:00","00:00:00"]
[35,null,null,null,null,null,null,null,"00:00:00",null,null,null,null,"00:00:00",null,null,null,null,null,null,"00:00:00","00:00:00"]
[36,null,null,null,null,null,null,null,"00:00:00",null,null,null,null,"00:00:00",null,null,null,null,null,null,"00:00:00","00:00:00"]
[37,null,null,null,null,null,null,null,"00:00:00",null,null,null,null,"00:00:00",null,null,null,null,null,null,"00:00:00","00:00:00"]
[38,null,null,null,null,null,null,null,"00:00:00",null,null,null,null,"00:00:00",null,null,null,null,null,null,"00:00:00","00:00:00"]
[39,null,null,null,null,null,null,null,"00:00:00",null,null,null,null,"00:00:00",null,null,null,null,null,null,"00:00:00","00:00:00"]
[null,null,null,null,null,null,null,null,"00:00:00",null,null,null,null,"00:00:00",null,null,null,null,null,null,"00:00:00","00:00:00"]
[null,null,null,null,null,null,null,null,"00:00:00",null,null,null,null,"00:00:00",null,null,null,null,null,null,"00:00:00","00:00:00"]
[null,null,null,null,null,null,null,null,"00:00:00",null,null,null,null,"00:00:00",null,null,null,null,null,null,"00:00:00","00:00:00"]
[null,null,null,null,null,null,null,null,"00:00:00",null,null,null,null,"00:00:00",null,null,null,null,null,null,"00:00:00","00:00:00"]
[null,null,null,null,null,null,null,null,"00:00:00",null,null,null,null,"00:00:00",null,null,null,null,null,null,"00:00:00","00:00:00"]
[null,null,null,null,null,null,null,null,"00:00:00",null,null,null,null,"00:00:00",null,null,null,null,null,null,"00:00:00","00:00:00"]
[null,null,null,null,null,null,null,null,"00:00:00",null,null,null,null,"00:00:00",null,null,null,null,null,null,"00:00:00","00:00:00"]
[null,null,null,null,null,null,null,null,"00:00:00",null,null,null,null,"00:00:00",null,null,null,null,null,null,"00:00:00","00:00:00"]
[null,null,null,null,null,null,null,null,"00:00:00",null,null,null,null,"00:00:00",null,null,null,null,null,null,"00:00:00","00:00:00"]
[null,null,null,null,null,null,null,null,"00:00:00",null,null,null,null,"00:00:00",null,null,null,null,null,null,"00:00:00","00:00:00"]
[null,null,null,null,null,null,null,null,"00:00:00",null,null,null,null,"00:00:00",null,null,null,null,null,null,"00:00:00","00:00:00"]
[null,null,null,null,null,null,null,null,"00:00:00",null,null,null,null,"00:00:00",null,null,null,null,null,null,"00:00:00","00:00:00"]
[null,null,null,null,null,null,null,null,"00:00:00",null,null,null,null,"00:00:00",null,null,null,null,null,null,"00:00:00","00:00:00"]
[null,null,null,null,null,null,null,null,"00:00:00",null,null,null,null,"00:00:00",null,null,null,null,null,null,"00:00:00","00:00:00"]
[null,null,null,null,null,null,null,null,"00:00:00",null,null,null,null,"00:00:00",null,null,null,null,null,null,"00:00:00","00:00:00"]
[null,null,null,null,null,null,null,null,"00:00:00",null,null,null,null,"00:00:00",null,null,null,null,null,null,"00:00:00","00:00:00"]
[null,null,null,null,null,null,null,null,{"$f":"H62","v":"00:00:00"},null,null,null,null,"00:00:00",null,null,null,null,null,null,"00:00:00","00:00:00"]
[null,null,null,null,null,null,null,null,"00:00:00",null,null,null,null,{"$f":"M63-I63","v":"00:00:00"},null,null,null,null,null,null,{"$f":"T63-M63","v":"00:00:00"},{"$f":"T63","v":"00:00:00"}]
[null,null,null,null,null,null,null,null,"00:00:00",null,null,null,null,"00:00:00",null,null,null,null,null,null,"00:00:00","00:00:00"]
[null,null,null,null,null,null,null,null,"00:00:00",null,null,null,null,"00:00:00",null,null,null,null,null,null,"00:00:00","00:00:00"]
[null,null,null,null,null,null,null,null,"00:00:00",null,null,null,null,"00:00:00",null,null,null,null,null,null,"00:00:00","00:00:00"]
[null,null,null,null,null,null,null,null,"00:00:00",null,null,null,null,"00:00:00",null,null,null,null,null,null,"00:00:00","00:00:00"]
[null,null,null,null,null,null,null,null,"00:00:00",null,null,null,null,"00:00:00",null,null,null,null,null,null,"00:00:00","00:00:00"]
[null,null,null,null,null,null,null,null,"00:00:00",null,null,null,null,"00:00:00",null,null,null,null,null,null,"00:00:00","00:00:00"]
[null,null,null,null,null,null,null,null,"00:00:00",null,null,null,null,"00:00:00",null,null,null,null,null,null,"00:00:00","00:00:00"]
[null,null,null,null,null,null,null,null,"00:00:00",null,null,null,null,"00:00:00",null,null,null,null,null,null,"00:00:00","00:00:00"]
[null,null,null,null,null,null,null,null,"00:00:00",null,null,null,null,"00:00:00",null,null,null,null,null,null,"00:00:00","00:00:00"]
[null,null,null,null,null,null,null,null,"00:00:00",null,null,null,null,"00:00:00",null,null,null,null,null,null,"00:00:00","00:00:00"]
[null,null,null,null,null,null,null,null,"00:00:00",null,null,null,null,"00:00:00",null,null,null,null,null,null,"00:00:00","00:00:00"]
[null,null,null,null,null,null,null,null,"00:00:00",null,null,null,null,"00:00:00",null,null,null,null,null,null,"00:00:00","00:00:00"]
[null,null,null,null,null,null,null,null,"00:00:00",null,null,null,null,"00:00:00",null,null,null,null,null,null,"00:00:00","00:00:00"]
[null,null,null,null,null,null,null,null,"00:00:00",null,null,null,null,"00:00:00",null,null,null,null,null,null,"00:00:00","00:00:00"]
[null,null,null,null,null,null,null,null,"00:00:00",null,null,null,null,"00:00:00",null,null,null,null,null,null,"00:00:00","00:00:00"]
[null,null,null,null,null,null,null,null,"00:00:00",null,null,null,null,"00:00:00",null,null,null,null,null,null,"00:00:00","00:00:00"]
[null,null,null,null,null,null,null,null,"00:00:00",null,null,null,null,"00:00:00",null,null,null,null,null,null,"00:00:00","00:00:00"]
[null,null,null,null,null,null,null,null,"00:00:00",null,null,null,null,"00:00:00",null,null,null,null,null,null,"00:00:00","00:00:00"]
[null,null,null,null,null,null,null,null,"00:00:00",null,null,null,null,"00:00:00",null,null,null,null,null,null,"00:00:00","00:00:00"]
[null,null,null,null,null,null,null,null,"00:00:00",null,null,null,null,"00:00:00",null,null,null,null,null,null,"00:00:00","00:00:00"]
[null,null,null,null,null,null,null,null,"00:00:00",null,null,null,null,"00:00:00",null,null,null,null,null,null,"00:00:00","00:00:00"]
[null,null,null,null,null,null,null,null,"00:00:00",null,null,null,null,"00:00:00",null,null,null,null,null,null,"00:00:00","00:00:00"]
[null,null,null,null,null,null,null,null,"00:00:00",null,null,null,null,"00:00:00",null,null,null,null,null,null,"00:00:00","00:00:00"]
[null,null,null,null,null,null,null,null,"00:00:00",null,null,null,null,"00:00:00",null,null,null,null,null,null,"00:00:00","00:00:00"]
[null,null,null,null,null,null,null,null,"00:00:00",null,null,null,null,"00:00:00",null,null,null,null,null,null,"00:00:00","00:00:00"]
[null,null,null,null,null,null,null,null,"00:00:00",null,null,null,null,"00:00:00",null,null,null,null,null,null,"00:00:00","00:00:00"]
[null,null,null,null,null,null,null,null,"00:00:00",null,null,null,null,"00:00:00",null,null,null,null,null,null,"00:00:00","00:00:00"]
[null,null,null,null,null,null,null,null,"00:00:00",null,null,null,null,"00:00:00",null,null,null,null,null,null,"00:00:00","00:00:00"]
[null,null,null,null,null,null,null,null,"00:00:00",null,null,null,null,"00:00:00",null,null,null,null,null,null,"00:00:00","00:00:00"]
[null,null,null,null,null,null,null,null,"00:00:00",null,null,null,null,"00:00:00",null,null,null,null,null,null,"00:00:00","00:00:00"]
[null,null,null,null,null,null,null,null,"00:00:00",null,null,null,null,"00:00:00",null,null,null,null,null,null,"00:00:00","00:00:00"]
[null,null,null,null,null,null,null,null,"00:00:00",null,null,null,null,"00:00:00",null,null,null,null,null,null,"00:00:00","00:00:00"]
[null,null,null,null,null,null,null,null,"00:00:00",null,null,null,null,"00:00:00",null,null,null,null,null,null,"00:00:00","00:00:00"]
[null,null,null,null,null,null,null,null,"00:00:00",null,null,null,null,"00:00:00",null,null,null,null,null,null,"00:00:00","00:00:00"]
[null,null,null,null,null,null,null,null,"00:00:00",null,null,null,null,"00:00:00",null,null,null,null,null,null,"00:00:00","00:00:00"]
[null,null,null,null,null,null,null,null,"00:00:00",null,null,null,null,"00:00:00",null,null,null,null,null,null,"00:00:00","00:00:00"]
[null,null,null,null,null,null,null,null,"00:00:00",null,null,null,null,"00:00:00",null,null,null,null,null,null,"00:00:00","00:00:00"]
[null,null,null,null,null,null,null,null,"00:00:00",null,null,null,null,"00:00:00",null,null,null,null,null,null,"00:00:00","00:00:00"]
[null,null,null,null,null,null,null,null,"00:00:00",null,null,null,null,"00:00:00",null,null,null,null,null,null,"00:00:00","00:00:00"]
[null,null,null,null,null,null,null,null,"00:00:00",null,null,null,null,"00:00:00",null,null,null,null,null,null,"00:00:00","00:00:00"]
[null,null,null,null,null,null,null,null,"00:00:00",null,null,null,null,"00:00:00",null,null,null,null,null,null,"00:00:00","00:00:00"]
[null,null,null,null,null,null,null,null,"00:00:00",null,null,null,null,"00:00:00",null,null,null,null,null,null,"00:00:00","00:00:00"]
[null,null,null,null,null,null,null,null,"00:00:00",null,null,null,null,"00:00:00",null,null,null,null,null,null,"00:00:00","00:00:00"]
[null,null,null,null,null,null,null,null,"00:00:00",null,null,null,null,"00:00:00",null,null,null,null,null,null,"00:00:00","00:00:00"]
[null,null,null,null,null,null,null,null,"00:00:00",null,null,null,null,"00:00:00",null,null,null,null,null,null,"00:00:00","00:00:00"]
[null,null,null,null,null,null,null,null,"00:00:00",null,null,null,null,{"$f":"#REF!-H109","v":{"$error":"#REF!"}},null,null,null,null,null,null,"00:00:00","00:00:00"]
[null,null,null,null,null,null,null,null,"00:00:00",null,null,null,null,{"$f":"#REF!-H110","v":{"$error":"#REF!"}},null,null,null,null,null,null,"00:00:00","00:00:00"]
[null,null,null,null,null,null,null,null,"00:00:00",null,null,null,null,{"$f":"#REF!-H111","v":{"$error":"#REF!"}},null,null,null,null,null,null,"00:00:00","00:00:00"]
[null,null,null,null,null,null,null,null,"00:00:00",null,null,null,null,{"$f":"#REF!-H112","v":{"$error":"#REF!"}},null,null,null,null,null,null,"00:00:00","00:00:00"]
[null,null,null,null,null,null,null,null,"00:00:00",null,null,null,null,{"$f":"#REF!-H113","v":{"$error":"#REF!"}},null,null,null,null,null,null,"00:00:00","00:00:00"]
[null,null,null,null,null,null,null,null,"00:00:00",null,null,null,null,{"$f":"#REF!-H114","v":{"$error":"#REF!"}},null,null,null,null,null,null,"00:00:00","00:00:00"]
[null,null,null,null,null,null,null,null,"00:00:00",null,null,null,null,{"$f":"#REF!-H115","v":{"$error":"#REF!"}},null,null,null,null,null,null,"00:00:00","00:00:00"]
[null,null,null,null,null,null,null,null,"00:00:00",null,null,null,null,{"$f":"#REF!-H116","v":{"$error":"#REF!"}},null,null,null,null,null,null,"00:00:00","00:00:00"]
[null,null,null,null,null,null,null,null,"00:00:00",null,null,null,null,{"$f":"#REF!-H117","v":{"$error":"#REF!"}},null,null,null,null,null,null,"00:00:00","00:00:00"]
[null,null,null,null,null,null,null,null,"00:00:00",null,null,null,null,{"$f":"#REF!-H118","v":{"$error":"#REF!"}},null,null,null,null,null,null,"00:00:00","00:00:00"]
[null,null,null,null,null,null,null,null,"00:00:00",null,null,null,null,{"$f":"#REF!-H119","v":{"$error":"#REF!"}},null,null,null,null,null,null,"00:00:00","00:00:00"]
[null,null,null,null,null,null,null,null,"00:00:00",null,null,null,null,{"$f":"#REF!-H120","v":{"$error":"#REF!"}},null,null,null,null,null,null,"00:00:00","00:00:00"]
[null,null,null,null,null,null,null,null,"00:00:00",null,null,null,null,{"$f":"#REF!-H121","v":{"$error":"#REF!"}},null,null,null,null,null,null,"00:00:00","00:00:00"]
[null,null,null,null,null,null,null,null,"00:00:00",null,null,null,null,{"$f":"#REF!-H122","v":{"$error":"#REF!"}},null,null,null,null,null,null,"00:00:00","00:00:00"]
[null,{"$f":"B121+1","v":1},null,"DQ",null,"f11",null,null,"00:00:00",null,null,null,null,{"$f":"#REF!-H123","v":{"$error":"#REF!"}},null,null,null,null,null,null,"00:00:00","00:00:00"]
[null,"Time",null,null,null,null,null,null,"00:00:00",null,null,null,null,{"$f":"#REF!-H124","v":{"$error":"#REF!"}},null,null,null,null,null,null,"00:00:00","00:00:00"]
[null,{"$f":"B123+1","v":2},null,"DQ",null,"m11",null,null,"00:00:00",null,null,null,null,{"$f":"#REF!-H125","v":{"$error":"#REF!"}},null,null,null,null,null,null,"00:00:00","00:00:00"]
[null,"Time",null,null,null,null,null,null,{"$f":"H126","v":"00:00:00"},null,null,null,null,{"$f":"#REF!-H126","v":{"$error":"#REF!"}},null,null,null,null,null,null,"00:00:00","00:00:00"]
[null,{"$f":"B125+1","v":3},null,"DQ",null,"m10",null,null,"00:00:00",null,null,null,null,{"$f":"#REF!-H127","v":{"$error":"#REF!"}},null,null,null,null,null,null,{"$f":"T127-#REF!","v":{"$error":"#REF!"}},{"$f":"SUM(U127,I127,N127,#REF!,)","v":{"$error":"#REF!"}}]
[null,"Time",null,null,null,null,null,null,"00:00:00",null,null,null,null,{"$f":"#REF!-H128","v":{"$error":"#REF!"}},null,null,null,null,null,null,{"$f":"T128-#REF!","v":{"$error":"#REF!"}},{"$f":"SUM(U128,I128,N128,#REF!,)","v":{"$error":"#REF!"}}]
[null,{"$f":"B127+1","v":4},null,"DQ",null,"f10",null,null,"00:00:00",null,null,null,null,{"$f":"#REF!-H129","v":{"$error":"#REF!"}},null,null,null,null,null,null,{"$f":"T129-#REF!","v":{"$error":"#REF!"}},{"$f":"SUM(U129,I129,N129,#REF!,)","v":{"$error":"#REF!"}}]
[null,"Time",null,null,null,null,null,null,"00:00:00",null,null,null,null,{"$f":"#REF!-H130","v":{"$error":"#REF!"}},null,null,null,null,null,null,{"$f":"T130-#REF!","v":{"$error":"#REF!"}},{"$f":"SUM(U130,I130,N130,#REF!,)","v":{"$error":"#REF!"}}]
[null,{"$f":"B129+1","v":5},null,"DQ",null,"m8",null,null,"00:00:00",null,null,null,null,{"$f":"#REF!-H131","v":{"$error":"#REF!"}},null,null,null,null,null,null,{"$f":"T131-#REF!","v":{"$error":"#REF!"}},{"$f":"SUM(U131,I131,N131,#REF!,)","v":{"$error":"#REF!"}}]
[null,"Time",null,null,null,null,null,null,"00:00:00",null,null,null,null,{"$f":"#REF!-H132","v":{"$error":"#REF!"}},null,null,null,null,null,null,{"$f":"T132-#REF!","v":{"$error":"#REF!"}},{"$f":"SUM(U132,I132,N132,#REF!,)","v":{"$error":"#REF!"}}]
[null,{"$f":"B131+1","v":6},null,"DQ",null,"m12",null,null,"00:00:00",null,null,null,null,{"$f":"#REF!-H133","v":{"$error":"#REF!"}},null,null,null,null,null,null,{"$f":"T133-#REF!","v":{"$error":"#REF!"}},{"$f":"SUM(U133,I133,N133,#REF!,)","v":{"$error":"#REF!"}}]
[null,"Time",null,null,null,null,null,null,"00:00:00",null,null,null,null,{"$f":"#REF!-H134","v":{"$error":"#REF!"}},null,null,null,null,null,null,{"$f":"T134-#REF!","v":{"$error":"#REF!"}},{"$f":"SUM(U134,I134,N134,#REF!,)","v":{"$error":"#REF!"}}]
[null,{"$f":"B133+1","v":7},null,"DQ",null,"m11",null,null,"00:00:00",null,null,null,null,{"$f":"#REF!-H135","v":{"$error":"#REF!"}},null,null,null,null,null,null,{"$f":"T135-#REF!","v":{"$error":"#REF!"}},{"$f":"SUM(U135,I135,N135,#REF!,)","v":{"$error":"#REF!"}}]
[null,"Time",null,null,null,null,null,null,"00:00:00",null,null,null,null,{"$f":"#REF!-H136","v":{"$error":"#REF!"}},null,null,null,null,null,null,{"$f":"T136-#REF!","v":{"$error":"#REF!"}},{"$f":"SUM(U136,I136,N136,#REF!,)","v":{"$error":"#REF!"}}]
[null,{"$f":"B135+1","v":8},null,"DQ",null,"f7",null,null,"00:00:00",null,null,null,null,{"$f":"#REF!-H137","v":{"$error":"#REF!"}},null,null,null,null,null,null,{"$f":"T137-#REF!","v":{"$error":"#REF!"}},{"$f":"SUM(U137,I137,N137,#REF!,)","v":{"$error":"#REF!"}}]
[null,"Time",null,null,null,null,null,null,"00:00:00",null,null,null,null,{"$f":"#REF!-H138","v":{"$error":"#REF!"}},null,null,null,null,null,null,{"$f":"T138-#REF!","v":{"$error":"#REF!"}},{"$f":"SUM(U138,I138,N138,#REF!,)","v":{"$error":"#REF!"}}]
[null,{"$f":"B137+1","v":9},null,"DQ",null,"f9",null,null,"00:00:00",null,null,null,null,{"$f":"#REF!-H139","v":{"$error":"#REF!"}},null,null,null,null,null,null,{"$f":"T139-#REF!","v":{"$error":"#REF!"}},{"$f":"SUM(U139,I139,N139,#REF!,)","v":{"$error":"#REF!"}}]
[null,"Time",null,null,null,null,null,null,"00:00:00",null,null,null,null,{"$f":"#REF!-H140","v":{"$error":"#REF!"}},null,null,null,null,null,null,{"$f":"T140-#REF!","v":{"$error":"#REF!"}},{"$f":"SUM(U140,I140,N140,#REF!,)","v":{"$error":"#REF!"}}]
[null,{"$f":"B139+1","v":10},null,"DQ",null,"m12",null,null,"00:00:00",null,null,null,null,{"$f":"#REF!-H141","v":{"$error":"#REF!"}},null,null,null,null,null,null,{"$f":"T141-#REF!","v":{"$error":"#REF!"}},{"$f":"SUM(U141,I141,N141,#REF!,)","v":{"$error":"#REF!"}}]
[null,"Time",null,null,null,null,null,null,"00:00:00",null,null,null,null,{"$f":"#REF!-H142","v":{"$error":"#REF!"}},null,null,null,null,null,null,{"$f":"T142-#REF!","v":{"$error":"#REF!"}},{"$f":"SUM(U142,I142,N142,#REF!,)","v":{"$error":"#REF!"}}]
[null,{"$f":"B141+1","v":11},null,"DQ",null,"m?",null,null,"00:00:00",null,null,null,null,{"$f":"#REF!-H143","v":{"$error":"#REF!"}},null,null,null,null,null,null,{"$f":"T143-#REF!","v":{"$error":"#REF!"}},{"$f":"SUM(U143,I143,N143,#REF!,)","v":{"$error":"#REF!"}}]
[null,"Time",null,null,null,null,null,null,"00:00:00",null,null,null,null,{"$f":"#REF!-H144","v":{"$error":"#REF!"}},null,null,null,null,null,null,{"$f":"T144-#REF!","v":{"$error":"#REF!"}},{"$f":"SUM(U144,I144,N144,#REF!,)","v":{"$error":"#REF!"}}]
[null,{"$f":"B143+1","v":12},null,"DQ",null,"m12",null,null,"00:00:00",null,null,null,null,{"$f":"#REF!-H145","v":{"$error":"#REF!"}},null,null,null,null,null,null,{"$f":"T145-#REF!","v":{"$error":"#REF!"}},{"$f":"SUM(U145,I145,N145,#REF!,)","v":{"$error":"#REF!"}}]
[null,"Time",null,null,null,null,null,null,"00:00:00",null,null,null,null,{"$f":"#REF!-H146","v":{"$error":"#REF!"}},null,null,null,null,null,null,{"$f":"T146-#REF!","v":{"$error":"#REF!"}},{"$f":"SUM(U146,I146,N146,#REF!,)","v":{"$error":"#REF!"}}]
[null,{"$f":"B145+1","v":13},null,"DQ",null,"f8",null,null,"00:00:00",null,null,null,null,{"$f":"#REF!-H147","v":{"$error":"#REF!"}},null,null,null,null,null,null,{"$f":"T147-#REF!","v":{"$error":"#REF!"}},{"$f":"SUM(U147,I147,N147,#REF!,)","v":{"$error":"#REF!"}}]
[null,"Time",null,null,null,null,null,null,"00:00:00",null,null,null,null,{"$f":"#REF!-H148","v":{"$error":"#REF!"}},null,null,null,null,null,null,{"$f":"T148-#REF!","v":{"$error":"#REF!"}},{"$f":"SUM(U148,I148,N148,#REF!,)","v":{"$error":"#REF!"}}]
[null,{"$f":"B147+1","v":14},null,"DQ",null,"m12",null,null,"00:00:00",null,null,null,null,{"$f":"#REF!-H149","v":{"$error":"#REF!"}},null,null,null,null,null,null,{"$f":"T149-#REF!","v":{"$error":"#REF!"}},{"$f":"SUM(U149,I149,N149,#REF!,)","v":{"$error":"#REF!"}}]
[null,"Time",null,null,null,null,null,null,"00:00:00",null,null,null,null,{"$f":"#REF!-H150","v":{"$error":"#REF!"}},null,null,null,null,null,null,{"$f":"T150-#REF!","v":{"$error":"#REF!"}},{"$f":"SUM(U150,I150,N150,#REF!,)","v":{"$error":"#REF!"}}]
[null,{"$f":"B149+1","v":15},null,"DQ",null,"f11",null,null,"00:00:00",null,null,null,null,{"$f":"#REF!-H151","v":{"$error":"#REF!"}},null,null,null,null,null,null,{"$f":"T151-#REF!","v":{"$error":"#REF!"}},{"$f":"SUM(U151,I151,N151,#REF!,)","v":{"$error":"#REF!"}}]
[null,"Time",null,null,null,null,null,null,"00:00:00",null,null,null,null,{"$f":"#REF!-H152","v":{"$error":"#REF!"}},null,null,null,null,null,null,{"$f":"T152-#REF!","v":{"$error":"#REF!"}},{"$f":"SUM(U152,I152,N152,#REF!,)","v":{"$error":"#REF!"}}]
[null,{"$f":"B151+1","v":16},null,null,null,null,null,null,"00:00:00",null,null,null,null,{"$f":"#REF!-H153","v":{"$error":"#REF!"}},null,null,null,null,null,null,{"$f":"T153-#REF!","v":{"$error":"#REF!"}},{"$f":"SUM(U153,I153,N153,#REF!,)","v":{"$error":"#REF!"}}]
[null,"Time",null,null,null,null,null,null,"00:00:00",null,null,null,null,{"$f":"#REF!-H154","v":{"$error":"#REF!"}},null,null,null,null,null,null,{"$f":"T154-#REF!","v":{"$error":"#REF!"}},{"$f":"SUM(U154,I154,N154,#REF!,)","v":{"$error":"#REF!"}}]
[null,{"$f":"B153+1","v":17},null,null,null,null,null,null,"00:00:00",null,null,null,null,{"$f":"#REF!-H155","v":{"$error":"#REF!"}},null,null,null,null,null,null,{"$f":"T155-#REF!","v":{"$error":"#REF!"}},{"$f":"SUM(U155,I155,N155,#REF!,)","v":{"$error":"#REF!"}}]
[null,"Time",null,null,null,null,null,null,"00:00:00",null,null,null,null,{"$f":"#REF!-H156","v":{"$error":"#REF!"}},null,null,null,null,null,null,{"$f":"T156-#REF!","v":{"$error":"#REF!"}},{"$f":"SUM(U156,I156,N156,#REF!,)","v":{"$error":"#REF!"}}]
[null,{"$f":"B155+1","v":18},null,null,null,null,null,null,"00:00:00",null,null,null,null,{"$f":"#REF!-H157","v":{"$error":"#REF!"}},null,null,null,null,null,null,{"$f":"T157-#REF!","v":{"$error":"#REF!"}},{"$f":"SUM(U157,I157,N157,#REF!,)","v":{"$error":"#REF!"}}]
[null,"Time",null,null,null,null,null,null,"00:00:00",null,null,null,null,{"$f":"#REF!-H158","v":{"$error":"#REF!"}},null,null,null,null,null,null,{"$f":"T158-#REF!","v":{"$error":"#REF!"}},{"$f":"SUM(U158,I158,N158,#REF!,)","v":{"$error":"#REF!"}}]
[null,{"$f":"B157+1","v":19},null,null,null,null,null,null,"00:00:00",null,null,null,null,{"$f":"#REF!-H159","v":{"$error":"#REF!"}},null,null,null,null,null,null,{"$f":"T159-#REF!","v":{"$error":"#REF!"}},{"$f":"SUM(U159,I159,N159,#REF!,)","v":{"$error":"#REF!"}}]
[null,"Time",null,null,null,null,null,null,"00:00:00",null,null,null,null,{"$f":"#REF!-H160","v":{"$error":"#REF!"}},null,null,null,null,null,null,{"$f":"T160-#REF!","v":{"$error":"#REF!"}},{"$f":"SUM(U160,I160,N160,#REF!,)","v":{"$error":"#REF!"}}]
[null,{"$f":"B159+1","v":20},null,null,null,null,null,null,"00:00:00",null,null,null,null,{"$f":"#REF!-H161","v":{"$error":"#REF!"}},null,null,null,null,null,null,{"$f":"T161-#REF!","v":{"$error":"#REF!"}},{"$f":"SUM(U161,I161,N161,#REF!,)","v":{"$error":"#REF!"}}]
[null,"Time",null,null,null,null,null,null,"00:00:00",null,null,null,null,{"$f":"#REF!-H162","v":{"$error":"#REF!"}},null,null,null,null,null,null,{"$f":"T162-#REF!","v":{"$error":"#REF!"}},{"$f":"SUM(U162,I162,N162,#REF!,)","v":{"$error":"#REF!"}}]
[null,{"$f":"B161+1","v":21},null,null,null,null,null,null,"00:00:00",null,null,null,null,{"$f":"#REF!-H163","v":{"$error":"#REF!"}},null,null,null,null,null,null,{"$f":"T163-#REF!","v":{"$error":"#REF!"}},{"$f":"SUM(U163,I163,N163,#REF!,)","v":{"$error":"#REF!"}}]
[null,"Time",null,null,null,null,null,null,"00:00:00",null,null,null,null,{"$f":"#REF!-H164","v":{"$error":"#REF!"}},null,null,null,null,null,null,{"$f":"T164-#REF!","v":{"$error":"#REF!"}},{"$f":"SUM(U164,I164,N164,#REF!,)","v":{"$error":"#REF!"}}]
[null,{"$f":"B163+1","v":22},null,null,null,null,null,null,"00:00:00",null,null,null,null,{"$f":"#REF!-H165","v":{"$error":"#REF!"}},null,null,null,null,null,null,{"$f":"T165-#REF!","v":{"$error":"#REF!"}},{"$f":"SUM(U165,I165,N165,#REF!,)","v":{"$error":"#REF!"}}]
[null,"Time",null,null,null,null,null,null,"00:00:00",null,null,null,null,{"$f":"#REF!-H166","v":{"$error":"#REF!"}},null,null,null,null,null,null,{"$f":"T166-#REF!","v":{"$error":"#REF!"}},{"$f":"SUM(U166,I166,N166,#REF!,)","v":{"$error":"#REF!"}}]
[null,{"$f":"B165+1","v":23},null,null,null,null,null,null,"00:00:00",null,null,null,null,{"$f":"#REF!-H167","v":{"$error":"#REF!"}},null,null,null,null,null,null,{"$f":"T167-#REF!","v":{"$error":"#REF!"}},{"$f":"SUM(U167,I167,N167,#REF!,)","v":{"$error":"#REF!"}}]
[null,null,null,null,null,null,null,null,"00:00:00",null,null,null,null,{"$f":"#REF!-H168","v":{"$error":"#REF!"}},null,null,null,null,null,null,{"$f":"T168-#REF!","v":{"$error":"#REF!"}},{"$f":"SUM(U168,I168,N168,#REF!,)","v":{"$error":"#REF!"}}]
[null,null,null,null,null,null,null,null,"00:00:00",null,null,null,null,{"$f":"#REF!-H169","v":{"$error":"#REF!"}},null,null,null,null,null,null,{"$f":"T169-#REF!","v":{"$error":"#REF!"}},{"$f":"SUM(U169,I169,N169,#REF!,)","v":{"$error":"#REF!"}}]
[null,null,null,null,null,null,null,null,"00:00:00",null,null,null,null,{"$f":"#REF!-H170","v":{"$error":"#REF!"}},null,null,null,null,null,null,{"$f":"T170-#REF!","v":{"$error":"#REF!"}},{"$f":"SUM(U170,I170,N170,#REF!,)","v":{"$error":"#REF!"}}]
[null,null,null,null,null,null,null,null,"00:00:00",null,null,null,null,{"$f":"#REF!-H171","v":{"$error":"#REF!"}},null,null,null,null,null,null,{"$f":"T171-#REF!","v":{"$error":"#REF!"}},{"$f":"SUM(U171,I171,N171,#REF!,)","v":{"$error":"#REF!"}}]
[null,null,null,null,null,null,null,null,"00:00:00",null,null,null,null,{"$f":"#REF!-H172","v":{"$error":"#REF!"}},null,null,null,null,null,null,{"$f":"T172-#REF!","v":{"$error":"#REF!"}},{"$f":"SUM(U172,I172,N172,#REF!,)","v":{"$error":"#REF!"}}]
[null,null,null,null,null,null,null,null,"00:00:00",null,null,null,null,{"$f":"#REF!-H173","v":{"$error":"#REF!"}},null,null,null,null,null,null,{"$f":"T173-#REF!","v":{"$error":"#REF!"}},{"$f":"SUM(U173,I173,N173,#REF!,)","v":{"$error":"#REF!"}}]
[null,null,null,null,null,null,null,null,"00:00:00",null,null,null,null,{"$f":"#REF!-H174","v":{"$error":"#REF!"}},null,null,null,null,null,null,{"$f":"T174-#REF!","v":{"$error":"#REF!"}},{"$f":"SUM(U174,I174,N174,#REF!,)","v":{"$error":"#REF!"}}]
[null,null,null,null,null,null,null,null,"00:00:00",null,null,null,null,{"$f":"#REF!-H175","v":{"$error":"#REF!"}},null,null,null,null,null,null,{"$f":"T175-#REF!","v":{"$error":"#REF!"}},{"$f":"SUM(U175,I175,N175,#REF!,)","v":{"$error":"#REF!"}}]
[null,null,null,null,null,null,null,null,"00:00:00",null,null,null,null,{"$f":"#REF!-H176","v":{"$error":"#REF!"}},null,null,null,null,null,null,{"$f":"T176-#REF!","v":{"$error":"#REF!"}},{"$f":"SUM(U176,I176,N176,#REF!,)","v":{"$error":"#REF!"}}]
[null,null,null,null,null,null,null,null,"00:00:00",null,null,null,null,{"$f":"#REF!-H177","v":{"$error":"#REF!"}},null,null,null,null,null,null,{"$f":"T177-#REF!","v":{"$error":"#REF!"}},{"$f":"SUM(U177,I177,N177,#REF!,)","v":{"$error":"#REF!"}}]
[null,null,null,null,null,null,null,null,"00:00:00",null,null,null,null,{"$f":"#REF!-H178","v":{"$error":"#REF!"}},null,null,null,null,null,null,{"$f":"T178-#REF!","v":{"$error":"#REF!"}},{"$f":"SUM(U178,I178,N178,#REF!,)","v":{"$error":"#REF!"}}]
[null,null,null,null,null,null,null,null,"00:00:00",null,null,null,null,{"$f":"#REF!-H179","v":{"$error":"#REF!"}},null,null,null,null,null,null,{"$f":"T179-#REF!","v":{"$error":"#REF!"}},{"$f":"SUM(U179,I179,N179,#REF!,)","v":{"$error":"#REF!"}}]
[null,null,null,null,null,null,null,null,"00:00:00",null,null,null,null,{"$f":"#REF!-H180","v":{"$error":"#REF!"}},null,null,null,null,null,null,{"$f":"T180-#REF!","v":{"$error":"#REF!"}},{"$f":"SUM(U180,I180,N180,#REF!,)","v":{"$error":"#REF!"}}]
[null,null,null,null,null,null,null,null,"00:00:00",null,null,null,null,{"$f":"#REF!-H181","v":{"$error":"#REF!"}},null,null,null,null,null,null,{"$f":"T181-#REF!","v":{"$error":"#REF!"}},{"$f":"SUM(U181,I181,N181,#REF!,)","v":{"$error":"#REF!"}}]
[null,null,null,null,null,null,null,null,"00:00:00",null,null,null,null,{"$f":"#REF!-H182","v":{"$error":"#REF!"}},null,null,null,null,null,null,{"$f":"T182-#REF!","v":{"$error":"#REF!"}},{"$f":"SUM(U182,I182,N182,#REF!,)","v":{"$error":"#REF!"}}]
[null,null,null,null,null,null,null,null,"00:00:00",null,null,null,null,{"$f":"#REF!-H183","v":{"$error":"#REF!"}},null,null,null,null,null,null,{"$f":"T183-#REF!","v":{"$error":"#REF!"}},{"$f":"SUM(U183,I183,N183,#REF!,)","v":{"$error":"#REF!"}}]
[null,null,null,null,null,null,null,null,"00:00:00",null,null,null,null,{"$f":"#REF!-H184","v":{"$error":"#REF!"}},null,null,null,null,null,null,{"$f":"T184-#REF!","v":{"$error":"#REF!"}},{"$f":"SUM(U184,I184,N184,#REF!,)","v":{"$error":"#REF!"}}]
[null,null,null,null,null,null,null,null,"00:00:00",null,null,null,null,{"$f":"#REF!-H185","v":{"$error":"#REF!"}},null,null,null,null,null,null,{"$f":"T185-#REF!","v":{"$error":"#REF!"}},{"$f":"SUM(U185,I185,N185,#REF!,)","v":{"$error":"#REF!"}}]
[null,null,null,null,null,null,null,null,"00:00:00",null,null,null,null,{"$f":"#REF!-H186","v":{"$error":"#REF!"}},null,null,null,null,null,null,{"$f":"T186-#REF!","v":{"$error":"#REF!"}},{"$f":"SUM(U186,I186,N186,#REF!,)","v":{"$error":"#REF!"}}]
[null,null,null,null,null,null,null,null,"00:00:00",null,null,null,null,{"$f":"#REF!-H187","v":{"$error":"#REF!"}},null,null,null,null,null,null,{"$f":"T187-#REF!","v":{"$error":"#REF!"}},{"$f":"SUM(U187,I187,N187,#REF!,)","v":{"$error":"#REF!"}}]
[null,null,null,null,null,null,null,null,"00:00:00",null,null,null,null,{"$f":"#REF!-H188","v":{"$error":"#REF!"}},null,null,null,null,null,null,{"$f":"T188-#REF!","v":{"$error":"#REF!"}},{"$f":"SUM(U188,I188,N188,#REF!,)","v":{"$error":"#REF!"}}]
[null,null,null,null,null,null,null,null,"00:00:00",null,null,null,null,{"$f":"#REF!-H189","v":{"$error":"#REF!"}},null,null,null,null,null,null,{"$f":"T189-#REF!","v":{"$error":"#REF!"}},{"$f":"SUM(U189,I189,N189,#REF!,)","v":{"$error":"#REF!"}}]
[null,null,null,null,null,null,null,null,{"$f":"H190","v":"00:00:00"},null,null,null,null,{"$f":"#REF!-H190","v":{"$error":"#REF!"}},null,null,null,null,null,null,{"$f":"T190-#REF!","v":{"$error":"#REF!"}},{"$f":"SUM(U190,I190,N190,#REF!,)","v":{"$error":"#REF!"}}]
[null,null,null,null,null,null,null,null,"00:00:00",null,null,null,null,{"$f":"#REF!-H191","v":{"$error":"#REF!"}},null,null,null,null,null,null,{"$f":"T191-#REF!","v":{"$error":"#REF!"}},{"$f":"SUM(U191,I191,N191,#REF!,)","v":{"$error":"#REF!"}}]
[null,null,null,null,null,null,null,null,"00:00:00",null,null,null,null,{"$f":"#REF!-H192","v":{"$error":"#REF!"}},null,null,null,null,null,null,{"$f":"T192-#REF!","v":{"$error":"#REF!"}},{"$f":"SUM(U192,I192,N192,#REF!,)","v":{"$error":"#REF!"}}]
[null,null,null,null,null,null,null,null,"00:00:00",null,null,null,null,{"$f":"#REF!-H193","v":{"$error":"#REF!"}},null,null,null,null,null,null,{"$f":"T193-#REF!","v":{"$error":"#REF!"}},{"$f":"SUM(U193,I193,N193,#REF!,)","v":{"$error":"#REF!"}}]
[null,null,null,null,null,null,null,null,"00:00:00",null,null,null,null,{"$f":"#REF!-H194","v":{"$error":"#REF!"}},null,null,null,null,null,null,{"$f":"T194-#REF!","v":{"$error":"#REF!"}},{"$f":"SUM(U194,I194,N194,#REF!,)","v":{"$error":"#REF!"}}]
[null,null,null,null,null,null,null,null,"00:00:00",null,null,null,null,{"$f":"#REF!-H195","v":{"$error":"#REF!"}},null,null,null,null,null,null,{"$f":"T195-#REF!","v":{"$error":"#REF!"}},{"$f":"SUM(U195,I195,N195,#REF!,)","v":{"$error":"#REF!"}}]
[null,null,null,null,null,null,null,null,"00:00:00",null,null,null,null,{"$f":"#REF!-H196","v":{"$error":"#REF!"}},null,null,null,null,null,null,{"$f":"T196-#REF!","v":{"$error":"#REF!"}},{"$f":"SUM(U196,I196,N196,#REF!,)","v":{"$error":"#REF!"}}]
[null,null,null,null,null,null,null,null,"00:00:00",null,null,null,null,{"$f":"#REF!-H197","v":{"$error":"#REF!"}},null,null,null,null,null,null,{"$f":"T197-#REF!","v":{"$error":"#REF!"}},{"$f":"SUM(U197,I197,N197,#REF!,)","v":{"$error":"#REF!"}}]
[null,null,null,null,null,null,null,null,"00:00:00",null,null,null,null,{"$f":"#REF!-H198","v":{"$error":"#REF!"}},null,null,null,null,null,null,{"$f":"T198-#REF!","v":{"$error":"#REF!"}},{"$f":"SUM(U198,I198,N198,#REF!,)","v":{"$error":"#REF!"}}]
[null,null,null,null,null,null,null,null,"00:00:00",null,null,null,null,{"$f":"#REF!-H199","v":{"$error":"#REF!"}},null,null,null,null,null,null,{"$f":"T199-#REF!","v":{"$error":"#REF!"}},{"$f":"SUM(U199,I199,N199,#REF!,)","v":{"$error":"#REF!"}}]
[null,null,null,null,null,null,null,null,"00:00:00",null,null,null,null,{"$f":"#REF!-H200","v":{"$error":"#REF!"}},null,null,null,null,null,null,{"$f":"T200-#REF!","v":{"$error":"#REF!"}},{"$f":"SUM(U200,I200,N200,#REF!,)","v":{"$error":"#REF!"}}]
[null,null,null,null,null,null,null,null,"00:00:00",null,null,null,null,{"$f":"#REF!-H201","v":{"$error":"#REF!"}},null,null,null,null,null,null,{"$f":"T201-#REF!","v":{"$error":"#REF!"}},{"$f":"SUM(U201,I201,N201,#REF!,)","v":{"$error":"#REF!"}}]
[null,null,null,null,null,null,null,null,"00:00:00",null,null,null,null,{"$f":"#REF!-H202","v":{"$error":"#REF!"}},null,null,null,null,null,null,{"$f":"T202-#REF!","v":{"$error":"#REF!"}},{"$f":"SUM(U202,I202,N202,#REF!,)","v":{"$error":"#REF!"}}]
[null,null,null,null,null,null,null,null,"00:00:00",null,null,null,null,{"$f":"#REF!-H203","v":{"$error":"#REF!"}},null,null,null,null,null,null,{"$f":"T203-#REF!","v":{"$error":"#REF!"}},{"$f":"SUM(U203,I203,N203,#REF!,)","v":{"$error":"#REF!"}}]
[null,null,null,null,null,null,null,null,"00:00:00",null,null,null,null,{"$f":"#REF!-H204","v":{"$error":"#REF!"}},null,null,null,null,null,null,{"$f":"T204-#REF!","v":{"$error":"#REF!"}},{"$f":"SUM(U204,I204,N204,#REF!,)","v":{"$error":"#REF!"}}]
[null,null,null,null,null,null,null,null,"00:00:00",null,null,null,null,{"$f":"#REF!-H205","v":{"$error":"#REF!"}},null,null,null,null,null,null,{"$f":"T205-#REF!","v":{"$error":"#REF!"}},{"$f":"SUM(U205,I205,N205,#REF!,)","v":{"$error":"#REF!"}}]
[null,null,null,null,null,null,null,null,"00:00:00",null,null,null,null,{"$f":"#REF!-H206","v":{"$error":"#REF!"}},null,null,null,null,null,null,{"$f":"T206-#REF!","v":{"$error":"#REF!"}},{"$f":"SUM(U206,I206,N206,#REF!,)","v":{"$error":"#REF!"}}]
[null,null,null,null,null,null,null,null,"00:00:00",null,null,null,null,{"$f":"#REF!-H207","v":{"$error":"#REF!"}},null,null,null,null,null,null,{"$f":"T207-#REF!","v":{"$error":"#REF!"}},{"$f":"SUM(U207,I207,N207,#REF!,)","v":{"$error":"#REF!"}}]
[null,null,null,null,null,null,null,null,"00:00:00",null,null,null,null,{"$f":"#REF!-H208","v":{"$error":"#REF!"}},null,null,null,null,null,null,{"$f":"T208-#REF!","v":{"$error":"#REF!"}},{"$f":"SUM(U208,I208,N208,#REF!,)","v":{"$error":"#REF!"}}]
[null,null,null,null,null,null,null,null,"00:00:00",null,null,null,null,{"$f":"#REF!-H209","v":{"$error":"#REF!"}},null,null,null,null,null,null,{"$f":"T209-#REF!","v":{"$error":"#REF!"}},{"$f":"SUM(U209,I209,N209,#REF!,)","v":{"$error":"#REF!"}}]
[null,null,null,null,null,null,null,null,"00:00:00",null,null,null,null,{"$f":"#REF!-H210","v":{"$error":"#REF!"}},null,null,null,null,null,null,{"$f":"T210-#REF!","v":{"$error":"#REF!"}},{"$f":"SUM(U210,I210,N210,#REF!,)","v":{"$error":"#REF!"}}]
[null,null,null,null,null,null,null,null,"00:00:00",null,null,null,null,{"$f":"#REF!-H211","v":{"$error":"#REF!"}},null,null,null,null,null,null,{"$f":"T211-#REF!","v":{"$error":"#REF!"}},{"$f":"SUM(U211,I211,N211,#REF!,)","v":{"$error":"#REF!"}}]
[null,null,null,null,null,null,null,null,"00:00:00",null,null,null,null,{"$f":"#REF!-H212","v":{"$error":"#REF!"}},null,null,null,null,null,null,{"$f":"T212-#REF!","v":{"$error":"#REF!"}},{"$f":"SUM(U212,I212,N212,#REF!,)","v":{"$error":"#REF!"}}]
[null,null,null,null,null,null,null,null,"00:00:00",null,null,null,null,{"$f":"#REF!-H213","v":{"$error":"#REF!"}},null,null,null,null,null,null,{"$f":"T213-#REF!","v":{"$error":"#REF!"}},{"$f":"SUM(U213,I213,N213,#REF!,)","v":{"$error":"#REF!"}}]
[null,null,null,null,null,null,null,null,"00:00:00",null,null,null,null,{"$f":"#REF!-H214","v":{"$error":"#REF!"}},null,null,null,null,null,null,{"$f":"T214-#REF!","v":{"$error":"#REF!"}},{"$f":"SUM(U214,I214,N214,#REF!,)","v":{"$error":"#REF!"}}]
[null,null,null,null,null,null,null,null,"00:00:00",null,null,null,null,{"$f":"#REF!-H215","v":{"$error":"#REF!"}},null,null,null,null,null,null,{"$f":"T215-#REF!","v":{"$error":"#REF!"}},{"$f":"SUM(U215,I215,N215,#REF!,)","v":{"$error":"#REF!"}}]
[null,null,null,null,null,null,null,null,"00:00:00",null,null,null,null,{"$f":"#REF!-H216","v":{"$error":"#REF!"}},null,null,null,null,null,null,{"$f":"T216-#REF!","v":{"$error":"#REF!"}},{"$f":"SUM(U216,I216,N216,#REF!,)","v":{"$error":"#REF!"}}]
[null,null,null,null,null,null,null,null,"00:00:00",null,null,null,null,{"$f":"#REF!-H217","v":{"$error":"#REF!"}},null,null,null,null,null,null,{"$f":"T217-#REF!","v":{"$error":"#REF!"}},{"$f":"SUM(U217,I217,N217,#REF!,)","v":{"$error":"#REF!"}}]
[null,null,null,null,null,null,null,null,"00:00:00",null,null,null,null,{"$f":"#REF!-H218","v":{"$error":"#REF!"}},null,null,null,null,null,null,{"$f":"T218-#REF!","v":{"$error":"#REF!"}},{"$f":"SUM(U218,I218,N218,#REF!,)","v":{"$error":"#REF!"}}]
[null,null,null,null,null,null,null,null,"00:00:00",null,null,null,null,{"$f":"#REF!-H219","v":{"$error":"#REF!"}},null,null,null,null,null,null,{"$f":"T219-#REF!","v":{"$error":"#REF!"}},{"$f":"SUM(U219,I219,N219,#REF!,)","v":{"$error":"#REF!"}}]
[null,null,null,null,null,null,null,null,"00:00:00",null,null,null,null,{"$f":"#REF!-H220","v":{"$error":"#REF!"}},null,null,null,null,null,null,{"$f":"T220-#REF!","v":{"$error":"#REF!"}},{"$f":"SUM(U220,I220,N220,#REF!,)","v":{"$error":"#REF!"}}]
[null,null,null,null,null,null,null,null,"00:00:00",null,null,null,null,{"$f":"#REF!-H221","v":{"$error":"#REF!"}},null,null,null,null,null,null,{"$f":"T221-#REF!","v":{"$error":"#REF!"}},{"$f":"SUM(U221,I221,N221,#REF!,)","v":{"$error":"#REF!"}}]
[null,null,null,null,null,null,null,null,"00:00:00",null,null,null,null,{"$f":"#REF!-H222","v":{"$error":"#REF!"}},null,null,null,null,null,null,{"$f":"T222-#REF!","v":{"$error":"#REF!"}},{"$f":"SUM(U222,I222,N222,#REF!,)","v":{"$error":"#REF!"}}]
[null,null,null,null,null,null,null,null,"00:00:00",null,null,null,null,{"$f":"#REF!-H223","v":{"$error":"#REF!"}},null,null,null,null,null,null,{"$f":"T223-#REF!","v":{"$error":"#REF!"}},{"$f":"SUM(U223,I223,N223,#REF!,)","v":{"$error":"#REF!"}}]
[null,null,null,null,null,null,null,null,"00:00:00",null,null,null,null,{"$f":"#REF!-H224","v":{"$error":"#REF!"}},null,null,null,null,null,null,{"$f":"T224-#REF!","v":{"$error":"#REF!"}},{"$f":"SUM(U224,I224,N224,#REF!,)","v":{"$error":"#REF!"}}]
[null,null,null,null,null,null,null,null,"00:00:00",null,null,null,null,{"$f":"#REF!-H225","v":{"$error":"#REF!"}},null,null,null,null,null,null,{"$f":"T225-#REF!","v":{"$error":"#REF!"}},{"$f":"SUM(U225,I225,N225,#REF!,)","v":{"$error":"#REF!"}}]
[null,null,null,null,null,null,null,null,"00:00:00",null,null,null,null,{"$f":"#REF!-H226","v":{"$error":"#REF!"}},null,null,null,null,null,null,{"$f":"T226-#REF!","v":{"$error":"#REF!"}},{"$f":"SUM(U226,I226,N226,#REF!,)","v":{"$error":"#REF!"}}]
[null,null,null,null,null,null,null,null,"00:00:00",null,null,null,null,{"$f":"#REF!-H227","v":{"$error":"#REF!"}},null,null,null,null,null,null,{"$f":"T227-#REF!","v":{"$error":"#REF!"}},{"$f":"SUM(U227,I227,N227,#REF!,)","v":{"$error":"#REF!"}}]
[null,null,null,null,null,null,null,null,"00:00:00",null,null,null,null,{"$f":"#REF!-H228","v":{"$error":"#REF!"}},null,null,null,null,null,null,{"$f":"T228-#REF!","v":{"$error":"#REF!"}},{"$f":"SUM(U228,I228,N228,#REF!,)","v":{"$error":"#REF!"}}]
[null,null,null,null,null,null,null,null,"00:00:00",null,null,null,null,{"$f":"#REF!-H229","v":{"$error":"#REF!"}},null,null,null,null,null,null,{"$f":"T229-#REF!","v":{"$error":"#REF!"}},{"$f":"SUM(U229,I229,N229,#REF!,)","v":{"$error":"#REF!"}}]
[null,null,null,null,null,null,null,null,"00:00:00",null,null,null,null,{"$f":"#REF!-H230","v":{"$error":"#REF!"}},null,null,null,null,null,null,{"$f":"T230-#REF!","v":{"$error":"#REF!"}},{"$f":"SUM(U230,I230,N230,#REF!,)","v":{"$error":"#REF!"}}]
[null,null,null,null,null,null,null,null,"00:00:00",null,null,null,null,{"$f":"#REF!-H231","v":{"$error":"#REF!"}},null,null,null,null,null,null,{"$f":"T231-#REF!","v":{"$error":"#REF!"}},{"$f":"SUM(U231,I231,N231,#REF!,)","v":{"$error":"#REF!"}}]
[null,null,null,null,null,null,null,null,"00:00:00",null,null,null,null,{"$f":"#REF!-H232","v":{"$error":"#REF!"}},null,null,null,null,null,null,{"$f":"T232-#REF!","v":{"$error":"#REF!"}},{"$f":"SUM(U232,I232,N232,#REF!,)","v":{"$error":"#REF!"}}]
[null,null,null,null,null,null,null,null,"00:00:00",null,null,null,null,{"$f":"#REF!-H233","v":{"$error":"#REF!"}},null,null,null,null,null,null,{"$f":"T233-#REF!","v":{"$error":"#REF!"}},{"$f":"SUM(U233,I233,N233,#REF!,)","v":{"$error":"#REF!"}}]
[null,null,null,null,null,null,null,null,"00:00:00",null,null,null,null,{"$f":"#REF!-H234","v":{"$error":"#REF!"}},null,null,null,null,null,null,{"$f":"T234-#REF!","v":{"$error":"#REF!"}},{"$f":"SUM(U234,I234,N234,#REF!,)","v":{"$error":"#REF!"}}]
[null,null,null,null,null,null,null,null,"00:00:00",null,null,null,null,{"$f":"#REF!-H235","v":{"$error":"#REF!"}},null,null,null,null,null,null,{"$f":"T235-#REF!","v":{"$error":"#REF!"}},{"$f":"SUM(U235,I235,N235,#REF!,)","v":{"$error":"#REF!"}}]
[null,null,null,null,null,null,null,null,"00:00:00",null,null,null,null,{"$f":"#REF!-H236","v":{"$error":"#REF!"}},null,null,null,null,null,null,{"$f":"T236-#REF!","v":{"$error":"#REF!"}},{"$f":"SUM(U236,I236,N236,#REF!,)","v":{"$error":"#REF!"}}]
[null,null,null,null,null,null,null,null,"00:00:00",null,null,null,null,{"$f":"#REF!-H237","v":{"$error":"#REF!"}},null,null,null,null,null,null,{"$f":"T237-#REF!","v":{"$error":"#REF!"}},{"$f":"SUM(U237,I237,N237,#REF!,)","v":{"$error":"#REF!"}}]
[null,null,null,null,null,null,null,null,"00:00:00",null,null,null,null,{"$f":"#REF!-H238","v":{"$error":"#REF!"}},null,null,null,null,null,null,{"$f":"T238-#REF!","v":{"$error":"#REF!"}},{"$f":"SUM(U238,I238,N238,#REF!,)","v":{"$error":"#REF!"}}]
[null,null,null,null,null,null,null,null,"00:00:00",null,null,null,null,{"$f":"#REF!-H239","v":{"$error":"#REF!"}},null,null,null,null,null,null,{"$f":"T239-#REF!","v":{"$error":"#REF!"}},{"$f":"SUM(U239,I239,N239,#REF!,)","v":{"$error":"#REF!"}}]
[null,null,null,null,null,null,null,null,"00:00:00",null,null,null,null,{"$f":"#REF!-H240","v":{"$error":"#REF!"}},null,null,null,null,null,null,{"$f":"T240-#REF!","v":{"$error":"#REF!"}},{"$f":"SUM(U240,I240,N240,#REF!,)","v":{"$error":"#REF!"}}]
[null,null,null,null,null,null,null,null,"00:00:00",null,null,null,null,{"$f":"#REF!-H241","v":{"$error":"#REF!"}},null,null,null,null,null,null,{"$f":"T241-#REF!","v":{"$error":"#REF!"}},{"$f":"SUM(U241,I241,N241,#REF!,)","v":{"$error":"#REF!"}}]
[null,null,null,null,null,null,null,null,"00:00:00",null,null,null,null,{"$f":"#REF!-H242","v":{"$error":"#REF!"}},null,null,null,null,null,null,{"$f":"T242-#REF!","v":{"$error":"#REF!"}},{"$f":"SUM(U242,I242,N242,#REF!,)","v":{"$error":"#REF!"}}]
[null,null,null,null,null,null,null,null,"00:00:00",null,null,null,null,{"$f":"#REF!-H243","v":{"$error":"#REF!"}},null,null,null,null,null,null,{"$f":"T243-#REF!","v":{"$error":"#REF!"}},{"$f":"SUM(U243,I243,N243,#REF!,)","v":{"$error":"#REF!"}}]
[null,null,null,null,null,null,null,null,"00:00:00",null,null,null,null,{"$f":"#REF!-H244","v":{"$error":"#REF!"}},null,null,null,null,null,null,{"$f":"T244-#REF!","v":{"$error":"#REF!"}},{"$f":"SUM(U244,I244,N244,#REF!,)","v":{"$error":"#REF!"}}]
[null,null,null,null,null,null,null,null,"00:00:00",null,null,null,null,{"$f":"#REF!-H245","v":{"$error":"#REF!"}},null,null,null,null,null,null,{"$f":"T245-#REF!","v":{"$error":"#REF!"}},{"$f":"SUM(U245,I245,N245,#REF!,)","v":{"$error":"#REF!"}}]
[null,null,null,null,null,null,null,null,"00:00:00",null,null,null,null,{"$f":"#REF!-H246","v":{"$error":"#REF!"}},null,null,null,null,null,null,{"$f":"T246-#REF!","v":{"$error":"#REF!"}},{"$f":"SUM(U246,I246,N246,#REF!,)","v":{"$error":"#REF!"}}]
[null,null,null,null,null,null,null,null,"00:00:00",null,null,null,null,{"$f":"#REF!-H247","v":{"$error":"#REF!"}},null,null,null,null,null,null,{"$f":"T247-#REF!","v":{"$error":"#REF!"}},{"$f":"SUM(U247,I247,N247,#REF!,)","v":{"$error":"#REF!"}}]
[null,null,null,null,null,null,null,null,"00:00:00",null,null,null,null,{"$f":"#REF!-H248","v":{"$error":"#REF!"}},null,null,null,null,null,null,{"$f":"T248-#REF!","v":{"$error":"#REF!"}},{"$f":"SUM(U248,I248,N248,#REF!,)","v":{"$error":"#REF!"}}]
[null,null,null,null,null,null,null,null,"00:00:00",null,null,null,null,{"$f":"#REF!-H249","v":{"$error":"#REF!"}},null,null,null,null,null,null,{"$f":"T249-#REF!","v":{"$error":"#REF!"}},{"$f":"SUM(U249,I249,N249,#REF!,)","v":{"$error":"#REF!"}}]
[null,null,null,null,null,null,null,null,"00:00:00",null,null,null,null,{"$f":"#REF!-H250","v":{"$error":"#REF!"}},null,null,null,null,null,null,{"$f":"T250-#REF!","v":{"$error":"#REF!"}},{"$f":"SUM(U250,I250,N250,#REF!,)","v":{"$error":"#REF!"}}]
[null,null,null,null,null,null,null,null,"00:00:00",null,null,null,null,{"$f":"#REF!-H251","v":{"$error":"#REF!"}},null,null,null,null,null,null,{"$f":"T251-#REF!","v":{"$error":"#REF!"}},{"$f":"SUM(U251,I251,N251,#REF!,)","v":{"$error":"#REF!"}}]
[null,null,null,null,null,null,null,null,"00:00:00",null,null,null,null,{"$f":"#REF!-H252","v":{"$error":"#REF!"}},null,null,null,null,null,null,{"$f":"T252-#REF!","v":{"$error":"#REF!"}},{"$f":"SUM(U252,I252,N252,#REF!,)","v":{"$error":"#REF!"}}]
[null,null,null,null,null,null,null,null,"00:00:00",null,null,null,null,{"$f":"#REF!-H253","v":{"$error":"#REF!"}},null,null,null,null,null,null,{"$f":"T253-#REF!","v":{"$error":"#REF!"}},{"$f":"SUM(U253,I253,N253,#REF!,)","v":{"$error":"#REF!"}}]
[null,null,null,null,null,null,null,null,{"$f":"H254","v":"00:00:00"},null,null,null,null,{"$f":"#REF!-H254","v":{"$error":"#REF!"}},null,null,null,null,null,null,{"$f":"T254-#REF!","v":{"$error":"#REF!"}},{"$f":"SUM(U254,I254,N254,#REF!,)","v":{"$error":"#REF!"}}]
[null,null,null,null,null,null,null,null,"00:00:00",null,null,null,null,{"$f":"#REF!-H255","v":{"$error":"#REF!"}},null,null,null,null,null,null,{"$f":"T255-#REF!","v":{"$error":"#REF!"}},{"$f":"SUM(U255,I255,N255,#REF!,)","v":{"$error":"#REF!"}}]
[null,null,null,null,null,null,null,null,"00:00:00",null,null,null,null,{"$f":"#REF!-H256","v":{"$error":"#REF!"}},null,null,null,null,null,null,{"$f":"T256-#REF!","v":{"$error":"#REF!"}},{"$f":"SUM(U256,I256,N256,#REF!,)","v":{"$error":"#REF!"}}]
[null,null,null,null,null,null,null,null,"00:00:00",null,null,null,null,{"$f":"#REF!-H257","v":{"$error":"#REF!"}},null,null,null,null,null,null,{"$f":"T257-#REF!","v":{"$error":"#REF!"}},{"$f":"SUM(U257,I257,N257,#REF!,)","v":{"$error":"#REF!"}}]
[null,null,null,null,null,null,null,null,"00:00:00",null,null,null,null,{"$f":"#REF!-H258","v":{"$error":"#REF!"}},null,null,null,null,null,null,{"$f":"T258-#REF!","v":{"$error":"#REF!"}},{"$f":"SUM(U258,I258,N258,#REF!,)","v":{"$error":"#REF!"}}]
[null,null,null,null,null,null,null,null,"00:00:00",null,null,null,null,{"$f":"#REF!-H259","v":{"$error":"#REF!"}},null,null,null,null,null,null,{"$f":"T259-#REF!","v":{"$error":"#REF!"}},{"$f":"SUM(U259,I259,N259,#REF!,)","v":{"$error":"#REF!"}}]
[null,null,null,null,null,null,null,null,"00:00:00",null,null,null,null,{"$f":"#REF!-H260","v":{"$error":"#REF!"}},null,null,null,null,null,null,{"$f":"T260-#REF!","v":{"$error":"#REF!"}},{"$f":"SUM(U260,I260,N260,#REF!,)","v":{"$error":"#REF!"}}]
[null,null,null,null,null,null,null,null,"00:00:00",null,null,null,null,{"$f":"#REF!-H261","v":{"$error":"#REF!"}},null,null,null,null,null,null,{"$f":"T261-#REF!","v":{"$error":"#REF!"}},{"$f":"SUM(U261,I261,N261,#REF!,)","v":{"$error":"#REF!"}}]
[null,null,null,null,null,null,null,null,"00:00:00",null,null,null,null,{"$f":"#REF!-H262","v":{"$error":"#REF!"}},null,null,null,null,null,null,{"$f":"T262-#REF!","v":{"$error":"#REF!"}},{"$f":"SUM(U262,I262,N262,#REF!,)","v":{"$error":"#REF!"}}]
[null,null,null,null,null,null,null,null,"00:00:00",null,null,null,null,{"$f":"#REF!-H263","v":{"$error":"#REF!"}},null,null,null,null,null,null,{"$f":"T263-#REF!","v":{"$error":"#REF!"}},{"$f":"SUM(U263,I263,N263,#REF!,)","v":{"$error":"#REF!"}}]
[null,null,null,null,null,null,null,null,"00:00:00",null,null,null,null,{"$f":"#REF!-H264","v":{"$error":"#REF!"}},null,null,null,null,null,null,{"$f":"T264-#REF!","v":{"$error":"#REF!"}},{"$f":"SUM(U264,I264,N264,#REF!,)","v":{"$error":"#REF!"}}]
[null,null,null,null,null,null,null,null,"00:00:00",null,null,null,null,{"$f":"#REF!-H265","v":{"$error":"#REF!"}},null,null,null,null,null,null,{"$f":"T265-#REF!","v":{"$error":"#REF!"}},{"$f":"SUM(U265,I265,N265,#REF!,)","v":{"$error":"#REF!"}}]
[null,null,null,null,null,null,null,null,"00:00:00",null,null,null,null,{"$f":"#REF!-H266","v":{"$error":"#REF!"}},null,null,null,null,null,null,{"$f":"T266-#REF!","v":{"$error":"#REF!"}},{"$f":"SUM(U266,I266,N266,#REF!,)","v":{"$error":"#REF!"}}]
[null,null,null,null,null,null,null,null,"00:00:00",null,null,null,null,{"$f":"#REF!-H267","v":{"$error":"#REF!"}},null,null,null,null,null,null,{"$f":"T267-#REF!","v":{"$error":"#REF!"}},{"$f":"SUM(U267,I267,N267,#REF!,)","v":{"$error":"#REF!"}}]
[null,null,null,null,null,null,null,null,"00:00:00",null,null,null,null,{"$f":"#REF!-H268","v":{"$error":"#REF!"}},null,null,null,null,null,null,{"$f":"T268-#REF!","v":{"$error":"#REF!"}},{"$f":"SUM(U268,I268,N268,#REF!,)","v":{"$error":"#REF!"}}]
[null,null,null,null,null,null,null,null,"00:00:00",null,null,null,null,{"$f":"#REF!-H269","v":{"$error":"#REF!"}},null,null,null,null,null,null,{"$f":"T269-#REF!","v":{"$error":"#REF!"}},{"$f":"SUM(U269,I269,N269,#REF!,)","v":{"$error":"#REF!"}}]
[null,null,null,null,null,null,null,null,"00:00:00",null,null,null,null,{"$f":"#REF!-H270","v":{"$error":"#REF!"}},null,null,null,null,null,null,{"$f":"T270-#REF!","v":{"$error":"#REF!"}},{"$f":"SUM(U270,I270,N270,#REF!,)","v":{"$error":"#REF!"}}]
[null,null,null,null,null,null,null,null,"00:00:00",null,null,null,null,{"$f":"#REF!-H271","v":{"$error":"#REF!"}},null,null,null,null,null,null,{"$f":"T271-#REF!","v":{"$error":"#REF!"}},{"$f":"SUM(U271,I271,N271,#REF!,)","v":{"$error":"#REF!"}}]
[null,null,null,null,null,null,null,null,"00:00:00",null,null,null,null,{"$f":"#REF!-H272","v":{"$error":"#REF!"}},null,null,null,null,null,null,{"$f":"T272-#REF!","v":{"$error":"#REF!"}},{"$f":"SUM(U272,I272,N272,#REF!,)","v":{"$error":"#REF!"}}]
[null,null,null,null,null,null,null,null,"00:00:00",null,null,null,null,{"$f":"#REF!-H273","v":{"$error":"#REF!"}},null,null,null,null,null,null,{"$f":"T273-#REF!","v":{"$error":"#REF!"}},{"$f":"SUM(U273,I273,N273,#REF!,)","v":{"$error":"#REF!"}}]
[null,null,null,null,null,null,null,null,"00:00:00",null,null,null,null,{"$f":"#REF!-H274","v":{"$error":"#REF!"}},null,null,null,null,null,null,{"$f":"T274-#REF!","v":{"$error":"#REF!"}},{"$f":"SUM(U274,I274,N274,#REF!,)","v":{"$error":"#REF!"}}]
[null,null,null,null,null,null,null,null,"00:00:00",null,null,null,null,{"$f":"#REF!-H275","v":{"$error":"#REF!"}},null,null,null,null,null,null,{"$f":"T275-#REF!","v":{"$error":"#REF!"}},{"$f":"SUM(U275,I275,N275,#REF!,)","v":{"$error":"#REF!"}}]
[null,null,null,null,null,null,null,null,"00:00:00",null,null,null,null,{"$f":"#REF!-H276","v":{"$error":"#REF!"}},null,null,null,null,null,null,{"$f":"T276-#REF!","v":{"$error":"#REF!"}},{"$f":"SUM(U276,I276,N276,#REF!,)","v":{"$error":"#REF!"}}]
[null,null,null,null,null,null,null,null,"00:00:00",null,null,null,null,{"$f":"#REF!-H277","v":{"$error":"#REF!"}},null,null,null,null,null,null,{"$f":"T277-#REF!","v":{"$error":"#REF!"}},{"$f":"SUM(U277,I277,N277,#REF!,)","v":{"$error":"#REF!"}}]
[null,null,null,null,null,null,null,null,"00:00:00",null,null,null,null,{"$f":"#REF!-H278","v":{"$error":"#REF!"}},null,null,null,null,null,null,{"$f":"T278-#REF!","v":{"$error":"#REF!"}},{"$f":"SUM(U278,I278,N278,#REF!,)","v":{"$error":"#REF!"}}]
[null,null,null,null,null,null,null,null,"00:00:00",null,null,null,null,{"$f":"#REF!-H279","v":{"$error":"#REF!"}},null,null,null,null,null,null,{"$f":"T279-#REF!","v":{"$error":"#REF!"}},{"$f":"SUM(U279,I279,N279,#REF!,)","v":{"$error":"#REF!"}}]
[null,null,null,null,null,null,null,null,"00:00:00",null,null,null,null,{"$f":"#REF!-H280","v":{"$error":"#REF!"}},null,null,null,null,null,null,{"$f":"T280-#REF!","v":{"$error":"#REF!"}},{"$f":"SUM(U280,I280,N280,#REF!,)","v":{"$error":"#REF!"}}]
[null,null,null,null,null,null,null,null,"00:00:00",null,null,null,null,{"$f":"#REF!-H281","v":{"$error":"#REF!"}},null,null,null,null,null,null,{"$f":"T281-#REF!","v":{"$error":"#REF!"}},{"$f":"SUM(U281,I281,N281,#REF!,)","v":{"$error":"#REF!"}}]
[null,null,null,null,null,null,null,null,"00:00:00",null,null,null,null,{"$f":"#REF!-H282","v":{"$error":"#REF!"}},null,null,null,null,null,null,{"$f":"T282-#REF!","v":{"$error":"#REF!"}},{"$f":"SUM(U282,I282,N282,#REF!,)","v":{"$error":"#REF!"}}]
[null,null,null,null,null,null,null,null,"00:00:00",null,null,null,null,{"$f":"#REF!-H283","v":{"$error":"#REF!"}},null,null,null,null,null,null,{"$f":"T283-#REF!","v":{"$error":"#REF!"}},{"$f":"SUM(U283,I283,N283,#REF!,)","v":{"$error":"#REF!"}}]
[null,null,null,null,null,null,null,null,"00:00:00",null,null,null,null,{"$f":"#REF!-H284","v":{"$error":"#REF!"}},null,null,null,null,null,null,{"$f":"T284-#REF!","v":{"$error":"#REF!"}},{"$f":"SUM(U284,I284,N284,#REF!,)","v":{"$error":"#REF!"}}]
[null,null,null,null,null,null,null,null,"00:00:00",null,null,null,null,{"$f":"#REF!-H285","v":{"$error":"#REF!"}},null,null,null,null,null,null,{"$f":"T285-#REF!","v":{"$error":"#REF!"}},{"$f":"SUM(U285,I285,N285,#REF!,)","v":{"$error":"#REF!"}}]
[null,null,null,null,null,null,null,null,"00:00:00",null,null,null,null,{"$f":"#REF!-H286","v":{"$error":"#REF!"}},null,null,null,null,null,null,{"$f":"T286-#REF!","v":{"$error":"#REF!"}},{"$f":"SUM(U286,I286,N286,#REF!,)","v":{"$error":"#REF!"}}]
[null,null,null,null,null,null,null,null,"00:00:00",null,null,null,null,{"$f":"#REF!-H287","v":{"$error":"#REF!"}},null,null,null,null,null,null,{"$f":"T287-#REF!","v":{"$error":"#REF!"}},{"$f":"SUM(U287,I287,N287,#REF!,)","v":{"$error":"#REF!"}}]
[null,null,null,null,null,null,null,null,"00:00:00",null,null,null,null,{"$f":"#REF!-H288","v":{"$error":"#REF!"}},null,null,null,null,null,null,{"$f":"T288-#REF!","v":{"$error":"#REF!"}},{"$f":"SUM(U288,I288,N288,#REF!,)","v":{"$error":"#REF!"}}]
[null,null,null,null,null,null,null,null,"00:00:00",null,null,null,null,{"$f":"#REF!-H289","v":{"$error":"#REF!"}},null,null,null,null,null,null,{"$f":"T289-#REF!","v":{"$error":"#REF!"}},{"$f":"SUM(U289,I289,N289,#REF!,)","v":{"$error":"#REF!"}}]
[null,null,null,null,null,null,null,null,"00:00:00",null,null,null,null,{"$f":"#REF!-H290","v":{"$error":"#REF!"}},null,null,null,null,null,null,{"$f":"T290-#REF!","v":{"$error":"#REF!"}},{"$f":"SUM(U290,I290,N290,#REF!,)","v":{"$error":"#REF!"}}]
[null,null,null,null,null,null,null,null,"00:00:00",null,null,null,null,{"$f":"#REF!-H291","v":{"$error":"#REF!"}},null,null,null,null,null,null,{"$f":"T291-#REF!","v":{"$error":"#REF!"}},{"$f":"SUM(U291,I291,N291,#REF!,)","v":{"$error":"#REF!"}}]
[null,null,null,null,null,null,null,null,"00:00:00",null,null,null,null,{"$f":"#REF!-H292","v":{"$error":"#REF!"}},null,null,null,null,null,null,{"$f":"T292-#REF!","v":{"$error":"#REF!"}},{"$f":"SUM(U292,I292,N292,#REF!,)","v":{"$error":"#REF!"}}]
[null,null,null,null,null,null,null,null,"00:00:00",null,null,null,null,{"$f":"#REF!-H293","v":{"$error":"#REF!"}},null,null,null,null,null,null,{"$f":"T293-#REF!","v":{"$error":"#REF!"}},{"$f":"SUM(U293,I293,N293,#REF!,)","v":{"$error":"#REF!"}}]
[null,null,null,null,null,null,null,null,"00:00:00",null,null,null,null,{"$f":"#REF!-H294","v":{"$error":"#REF!"}},null,null,null,null,null,null,{"$f":"T294-#REF!","v":{"$error":"#REF!"}},{"$f":"SUM(U294,I294,N294,#REF!,)","v":{"$error":"#REF!"}}]
[null,null,null,null,null,null,null,null,"00:00:00",null,null,null,null,{"$f":"#REF!-H295","v":{"$error":"#REF!"}},null,null,null,null,null,null,{"$f":"T295-#REF!","v":{"$error":"#REF!"}},{"$f":"SUM(U295,I295,N295,#REF!,)","v":{"$error":"#REF!"}}]
[null,null,null,null,null,null,null,null,"00:00:00",null,null,null,null,{"$f":"#REF!-H296","v":{"$error":"#REF!"}},null,null,null,null,null,null,{"$f":"T296-#REF!","v":{"$error":"#REF!"}},{"$f":"SUM(U296,I296,N296,#REF!,)","v":{"$error":"#REF!"}}]
[null,null,null,null,null,null,null,null,"00:00:00",null,null,null,null,{"$f":"#REF!-H297","v":{"$error":"#REF!"}},null,null,null,null,null,null,{"$f":"T297-#REF!","v":{"$error":"#REF!"}},{"$f":"SUM(U297,I297,N297,#REF!,)","v":{"$error":"#REF!"}}]
[null,null,null,null,null,null,null,null,"00:00:00",null,null,null,null,{"$f":"#REF!-H298","v":{"$error":"#REF!"}},null,null,null,null,null,null,{"$f":"T298-#REF!","v":{"$error":"#REF!"}},{"$f":"SUM(U298,I298,N298,#REF!,)","v":{"$error":"#REF!"}}]
[null,null,null,null,null,null,null,null,"00:00:00",null,null,null,null,{"$f":"#REF!-H299","v":{"$error":"#REF!"}},null,null,null,null,null,null,{"$f":"T299-#REF!","v":{"$error":"#REF!"}},{"$f":"SUM(U299,I299,N299,#REF!,)","v":{"$error":"#REF!"}}]
[null,null,null,null,null,null,null,null,"00:00:00",null,null,null,null,{"$f":"#REF!-H300","v":{"$error":"#REF!"}},null,null,null,null,null,null,{"$f":"T300-#REF!","v":{"$error":"#REF!"}},{"$f":"SUM(U300,I300,N300,#REF!,)","v":{"$error":"#REF!"}}]
[null,null,null,null,null,null,null,null,"00:00:00",null,null,null,null,{"$f":"#REF!-H301","v":{"$error":"#REF!"}},null,null,null,null,null,null,{"$f":"T301-#REF!","v":{"$error":"#REF!"}},{"$f":"SUM(U301,I301,N301,#REF!,)","v":{"$error":"#REF!"}}]
[null,null,null,null,null,null,null,null,"00:00:00",null,null,null,null,{"$f":"#REF!-H302","v":{"$error":"#REF!"}},null,null,null,null,null,null,{"$f":"T302-#REF!","v":{"$error":"#REF!"}},{"$f":"SUM(U302,I302,N302,#REF!,)","v":{"$error":"#REF!"}}]
[null,null,null,null,null,null,null,null,"00:00:00",null,null,null,null,{"$f":"#REF!-H303","v":{"$error":"#REF!"}},null,null,null,null,null,null,{"$f":"T303-#REF!","v":{"$error":"#REF!"}},{"$f":"SUM(U303,I303,N303,#REF!,)","v":{"$error":"#REF!"}}]
[null,null,null,null,null,null,null,null,"00:00:00",null,null,null,null,{"$f":"#REF!-H304","v":{"$error":"#REF!"}},null,null,null,null,null,null,{"$f":"T304-#REF!","v":{"$error":"#REF!"}},{"$f":"SUM(U304,I304,N304,#REF!,)","v":{"$error":"#REF!"}}]
[null,null,null,null,null,null,null,null,"00:00:00",null,null,null,null,{"$f":"#REF!-H305","v":{"$error":"#REF!"}},null,null,null,null,null,null,{"$f":"T305-#REF!","v":{"$error":"#REF!"}},{"$f":"SUM(U305,I305,N305,#REF!,)","v":{"$error":"#REF!"}}]
[null,null,null,null,null,null,null,null,"00:00:00",null,null,null,null,{"$f":"#REF!-H306","v":{"$error":"#REF!"}},null,null,null,null,null,null,{"$f":"T306-#REF!","v":{"$error":"#REF!"}},{"$f":"SUM(U306,I306,N306,#REF!,)","v":{"$error":"#REF!"}}]
[null,null,null,null,null,null,null,null,"00:00:00",null,null,null,null,{"$f":"#REF!-H307","v":{"$error":"#REF!"}},null,null,null,null,null,null,{"$f":"T307-#REF!","v":{"$error":"#REF!"}},{"$f":"SUM(U307,I307,N307,#REF!,)","v":{"$error":"#REF!"}}]
[null,null,null,null,null,null,null,null,"00:00:00",null,null,null,null,{"$f":"#REF!-H308","v":{"$error":"#REF!"}},null,null,null,null,null,null,{"$f":"T308-#REF!","v":{"$error":"#REF!"}},{"$f":"SUM(U308,I308,N308,#REF!,)","v":{"$error":"#REF!"}}]
[null,null,null,null,null,null,null,null,"00:00:00",null,null,null,null,{"$f":"#REF!-H309","v":{"$error":"#REF!"}},null,null,null,null,null,null,{"$f":"T309-#REF!","v":{"$error":"#REF!"}},{"$f":"SUM(U309,I309,N309,#REF!,)","v":{"$error":"#REF!"}}]
[null,null,null,null,null,null,null,null,"00:00:00",null,null,null,null,{"$f":"#REF!-H310","v":{"$error":"#REF!"}},null,null,null,null,null,null,{"$f":"T310-#REF!","v":{"$error":"#REF!"}},{"$f":"SUM(U310,I310,N310,#REF!,)","v":{"$error":"#REF!"}}]
[null,null,null,null,null,null,null,null,"00:00:00",null,null,null,null,{"$f":"#REF!-H311","v":{"$error":"#REF!"}},null,null,null,null,null,null,{"$f":"T311-#REF!","v":{"$error":"#REF!"}},{"$f":"SUM(U311,I311,N311,#REF!,)","v":{"$error":"#REF!"}}]
[null,null,null,null,null,null,null,null,"00:00:00",null,null,null,null,{"$f":"#REF!-H312","v":{"$error":"#REF!"}},null,null,null,null,null,null,{"$f":"T312-#REF!","v":{"$error":"#REF!"}},{"$f":"SUM(U312,I312,N312,#REF!,)","v":{"$error":"#REF!"}}]
[null,null,null,null,null,null,null,null,"00:00:00",null,null,null,null,{"$f":"#REF!-H313","v":{"$error":"#REF!"}},null,null,null,null,null,null,{"$f":"T313-#REF!","v":{"$error":"#REF!"}},{"$f":"SUM(U313,I313,N313,#REF!,)","v":{"$error":"#REF!"}}]
[null,null,null,null,null,null,null,null,"00:00:00",null,null,null,null,{"$f":"#REF!-H314","v":{"$error":"#REF!"}},null,null,null,null,null,null,{"$f":"T314-#REF!","v":{"$error":"#REF!"}},{"$f":"SUM(U314,I314,N314,#REF!,)","v":{"$error":"#REF!"}}]
[null,null,null,null,null,null,null,null,"00:00:00",null,null,null,null,{"$f":"#REF!-H315","v":{"$error":"#REF!"}},null,null,null,null,null,null,{"$f":"T315-#REF!","v":{"$error":"#REF!"}},{"$f":"SUM(U315,I315,N315,#REF!,)","v":{"$error":"#REF!"}}]
[null,null,null,null,null,null,null,null,"00:00:00",null,null,null,null,{"$f":"#REF!-H316","v":{"$error":"#REF!"}},null,null,null,null,null,null,{"$f":"T316-#REF!","v":{"$error":"#REF!"}},{"$f":"SUM(U316,I316,N316,#REF!,)","v":{"$error":"#REF!"}}]
[null,null,null,null,null,null,null,null,"00:00:00",null,null,null,null,{"$f":"#REF!-H317","v":{"$error":"#REF!"}},null,null,null,null,null,null,{"$f":"T317-#REF!","v":{"$error":"#REF!"}},{"$f":"SUM(U317,I317,N317,#REF!,)","v":{"$error":"#REF!"}}]
[null,null,null,null,null,null,null,null,{"$f":"H318","v":"00:00:00"},null,null,null,null,{"$f":"#REF!-H318","v":{"$error":"#REF!"}},null,null,null,null,null,null,{"$f":"T318-#REF!","v":{"$error":"#REF!"}},{"$f":"SUM(U318,I318,N318,#REF!,)","v":{"$error":"#REF!"}}]
[null,null,null,null,null,null,null,null,"00:00:00",null,null,null,null,{"$f":"#REF!-H319","v":{"$error":"#REF!"}},null,null,null,null,null,null,{"$f":"T319-#REF!","v":{"$error":"#REF!"}},{"$f":"SUM(U319,I319,N319,#REF!,)","v":{"$error":"#REF!"}}]
[null,null,null,null,null,null,null,null,"00:00:00",null,null,null,null,{"$f":"#REF!-H320","v":{"$error":"#REF!"}},null,null,null,null,null,null,{"$f":"T320-#REF!","v":{"$error":"#REF!"}},{"$f":"SUM(U320,I320,N320,#REF!,)","v":{"$error":"#REF!"}}]
[null,null,null,null,null,null,null,null,"00:00:00",null,null,null,null,{"$f":"#REF!-H321","v":{"$error":"#REF!"}},null,null,null,null,null,null,{"$f":"T321-#REF!","v":{"$error":"#REF!"}},{"$f":"SUM(U321,I321,N321,#REF!,)","v":{"$error":"#REF!"}}]
[null,null,null,null,null,null,null,null,"00:00:00",null,null,null,null,{"$f":"#REF!-H322","v":{"$error":"#REF!"}},null,null,null,null,null,null,{"$f":"T322-#REF!","v":{"$error":"#REF!"}},{"$f":"SUM(U322,I322,N322,#REF!,)","v":{"$error":"#REF!"}}]
[null,null,null,null,null,null,null,null,"00:00:00",null,null,null,null,{"$f":"#REF!-H323","v":{"$error":"#REF!"}},null,null,null,null,null,null,{"$f":"T323-#REF!","v":{"$error":"#REF!"}},{"$f":"SUM(U323,I323,N323,#REF!,)","v":{"$error":"#REF!"}}]
[null,null,null,null,null,null,null,null,"00:00:00",null,null,null,null,{"$f":"#REF!-H324","v":{"$error":"#REF!"}},null,null,null,null,null,null,{"$f":"T324-#REF!","v":{"$error":"#REF!"}},{"$f":"SUM(U324,I324,N324,#REF!,)","v":{"$error":"#REF!"}}]
[null,null,null,null,null,null,null,null,"00:00:00",null,null,null,null,{"$f":"#REF!-H325","v":{"$error":"#REF!"}},null,null,null,null,null,null,{"$f":"T325-#REF!","v":{"$error":"#REF!"}},{"$f":"SUM(U325,I325,N325,#REF!,)","v":{"$error":"#REF!"}}]
[null,null,null,null,null,null,null,null,"00:00:00",null,null,null,null,{"$f":"#REF!-H326","v":{"$error":"#REF!"}},null,null,null,null,null,null,{"$f":"T326-#REF!","v":{"$error":"#REF!"}},{"$f":"SUM(U326,I326,N326,#REF!,)","v":{"$error":"#REF!"}}]
[null,null,null,null,null,null,null,null,"00:00:00",null,null,null,null,{"$f":"#REF!-H327","v":{"$error":"#REF!"}},null,null,null,null,null,null,{"$f":"T327-#REF!","v":{"$error":"#REF!"}},{"$f":"SUM(U327,I327,N327,#REF!,)","v":{"$error":"#REF!"}}]
[null,null,null,null,null,null,null,null,"00:00:00",null,null,null,null,{"$f":"#REF!-H328","v":{"$error":"#REF!"}},null,null,null,null,null,null,{"$f":"T328-#REF!","v":{"$error":"#REF!"}},{"$f":"SUM(U328,I328,N328,#REF!,)","v":{"$error":"#REF!"}}]
[null,null,null,null,null,null,null,null,"00:00:00",null,null,null,null,{"$f":"#REF!-H329","v":{"$error":"#REF!"}},null,null,null,null,null,null,{"$f":"T329-#REF!","v":{"$error":"#REF!"}},{"$f":"SUM(U329,I329,N329,#REF!,)","v":{"$error":"#REF!"}}]
[null,null,null,null,null,null,null,null,"00:00:00",null,null,null,null,{"$f":"#REF!-H330","v":{"$error":"#REF!"}},null,null,null,null,null,null,{"$f":"T330-#REF!","v":{"$error":"#REF!"}},{"$f":"SUM(U330,I330,N330,#REF!,)","v":{"$error":"#REF!"}}]
[null,null,null,null,null,null,null,null,"00:00:00",null,null,null,null,{"$f":"#REF!-H331","v":{"$error":"#REF!"}},null,null,null,null,null,null,{"$f":"T331-#REF!","v":{"$error":"#REF!"}},{"$f":"SUM(U331,I331,N331,#REF!,)","v":{"$error":"#REF!"}}]
[null,null,null,null,null,null,null,null,"00:00:00",null,null,null,null,{"$f":"#REF!-H332","v":{"$error":"#REF!"}},null,null,null,null,null,null,{"$f":"T332-#REF!","v":{"$error":"#REF!"}},{"$f":"SUM(U332,I332,N332,#REF!,)","v":{"$error":"#REF!"}}]
[null,null,null,null,null,null,null,null,"00:00:00",null,null,null,null,{"$f":"#REF!-H333","v":{"$error":"#REF!"}},null,null,null,null,null,null,{"$f":"T333-#REF!","v":{"$error":"#REF!"}},{"$f":"SUM(U333,I333,N333,#REF!,)","v":{"$error":"#REF!"}}]
[null,null,null,null,null,null,null,null,"00:00:00",null,null,null,null,{"$f":"#REF!-H334","v":{"$error":"#REF!"}},null,null,null,null,null,null,{"$f":"T334-#REF!","v":{"$error":"#REF!"}},{"$f":"SUM(U334,I334,N334,#REF!,)","v":{"$error":"#REF!"}}]
[null,null,null,null,null,null,null,null,"00:00:00",null,null,null,null,{"$f":"#REF!-H335","v":{"$error":"#REF!"}},null,null,null,null,null,null,{"$f":"T335-#REF!","v":{"$error":"#REF!"}},{"$f":"SUM(U335,I335,N335,#REF!,)","v":{"$error":"#REF!"}}]
[null,null,null,null,null,null,null,null,"00:00:00",null,null,null,null,{"$f":"#REF!-H336","v":{"$error":"#REF!"}},null,null,null,null,null,null,{"$f":"T336-#REF!","v":{"$error":"#REF!"}},{"$f":"SUM(U336,I336,N336,#REF!,)","v":{"$error":"#REF!"}}]
[null,null,null,null,null,null,null,null,"00:00:00",null,null,null,null,{"$f":"#REF!-H337","v":{"$error":"#REF!"}},null,null,null,null,null,null,{"$f":"T337-#REF!","v":{"$error":"#REF!"}},{"$f":"SUM(U337,I337,N337,#REF!,)","v":{"$error":"#REF!"}}]
[null,null,null,null,null,null,null,null,"00:00:00",null,null,null,null,{"$f":"#REF!-H338","v":{"$error":"#REF!"}},null,null,null,null,null,null,{"$f":"T338-#REF!","v":{"$error":"#REF!"}},{"$f":"SUM(U338,I338,N338,#REF!,)","v":{"$error":"#REF!"}}]
[null,null,null,null,null,null,null,null,"00:00:00",null,null,null,null,{"$f":"#REF!-H339","v":{"$error":"#REF!"}},null,null,null,null,null,null,{"$f":"T339-#REF!","v":{"$error":"#REF!"}},{"$f":"SUM(U339,I339,N339,#REF!,)","v":{"$error":"#REF!"}}]
[null,null,null,null,null,null,null,null,"00:00:00",null,null,null,null,{"$f":"#REF!-H340","v":{"$error":"#REF!"}},null,null,null,null,null,null,{"$f":"T340-#REF!","v":{"$error":"#REF!"}},{"$f":"SUM(U340,I340,N340,#REF!,)","v":{"$error":"#REF!"}}]
[null,null,null,null,null,null,null,null,"00:00:00",null,null,null,null,{"$f":"#REF!-H341","v":{"$error":"#REF!"}},null,null,null,null,null,null,{"$f":"T341-#REF!","v":{"$error":"#REF!"}},{"$f":"SUM(U341,I341,N341,#REF!,)","v":{"$error":"#REF!"}}]
[null,null,null,null,null,null,null,null,"00:00:00",null,null,null,null,{"$f":"#REF!-H342","v":{"$error":"#REF!"}},null,null,null,null,null,null,{"$f":"T342-#REF!","v":{"$error":"#REF!"}},{"$f":"SUM(U342,I342,N342,#REF!,)","v":{"$error":"#REF!"}}]
[null,null,null,null,null,null,null,null,"00:00:00",null,null,null,null,{"$f":"#REF!-H343","v":{"$error":"#REF!"}},null,null,null,null,null,null,{"$f":"T343-#REF!","v":{"$error":"#REF!"}},{"$f":"SUM(U343,I343,N343,#REF!,)","v":{"$error":"#REF!"}}]
[null,null,null,null,null,null,null,null,"00:00:00",null,null,null,null,{"$f":"#REF!-H344","v":{"$error":"#REF!"}},null,null,null,null,null,null,{"$f":"T344-#REF!","v":{"$error":"#REF!"}},{"$f":"SUM(U344,I344,N344,#REF!,)","v":{"$error":"#REF!"}}]
[null,null,null,null,null,null,null,null,"00:00:00",null,null,null,null,{"$f":"#REF!-H345","v":{"$error":"#REF!"}},null,null,null,null,null,null,{"$f":"T345-#REF!","v":{"$error":"#REF!"}},{"$f":"SUM(U345,I345,N345,#REF!,)","v":{"$error":"#REF!"}}]
[null,null,null,null,null,null,null,null,"00:00:00",null,null,null,null,{"$f":"#REF!-H346","v":{"$error":"#REF!"}},null,null,null,null,null,null,{"$f":"T346-#REF!","v":{"$error":"#REF!"}},{"$f":"SUM(U346,I346,N346,#REF!,)","v":{"$error":"#REF!"}}]
[null,null,null,null,null,null,null,null,"00:00:00",null,null,null,null,{"$f":"#REF!-H347","v":{"$error":"#REF!"}},null,null,null,null,null,null,{"$f":"T347-#REF!","v":{"$error":"#REF!"}},{"$f":"SUM(U347,I347,N347,#REF!,)","v":{"$error":"#REF!"}}]
[null,null,null,null,null,null,null,null,"00:00:00",null,null,null,null,{"$f":"#REF!-H348","v":{"$error":"#REF!"}},null,null,null,null,null,null,{"$f":"T348-#REF!","v":{"$error":"#REF!"}},{"$f":"SUM(U348,I348,N348,#REF!,)","v":{"$error":"#REF!"}}]
[null,null,null,null,null,null,null,null,"00:00:00",null,null,null,null,{"$f":"#REF!-H349","v":{"$error":"#REF!"}},null,null,null,null,null,null,{"$f":"T349-#REF!","v":{"$error":"#REF!"}},{"$f":"SUM(U349,I349,N349,#REF!,)","v":{"$error":"#REF!"}}]

{"sheet":"2015 Timing Master","index":1,"n_rows":321,"n_cols":28,"rows_kept":321,"cut":false,"hidden":false,"merged":[]}
["Overall ","Place","Bib #","Name","Category","T-size","Age","Swimmer","Race time","Swim Split","T-size","Age","Cyclist","Race time","Train Delay","New Race Time","Bike Split","T-size","Age","Paddler","Race time","Paddle Split","T-size","Age","Runnner","Race time","Run Split","Total time"]
[]
[26,1,"144","Speed Goggles","Women's Pairs",null,null,"Suzanne Halet","00:24:42",{"$f":"I3","v":"00:24:42"},"S",null,"Suzanne Halet","01:16:55",null,{"$f":"N3-O3","v":"01:16:55"},{"$f":"P3-I3","v":"00:52:13"},"M",null,"Emily Marcolini","01:57:34",{"$f":"U3-N3","v":"00:40:39"},"S",null,"Emily Marcolini","02:31:14",{"$f":"Z3-U3","v":"00:33:40"},{"$f":"SUM(AA3,J3,Q3,V3,)","v":"02:31:14"}]
[22,2,"128","Palistas Locas de Nepahwin","Women's Pairs",null,null,"Katharine McClosky","00:25:52","00:25:52","L",null,"Katharine McClosky","01:26:14",null,"01:26:14","01:00:22","M",null,"Allison White","02:07:01","00:40:47","s",null,"Katharine McClosky","02:50:01","00:43:00","02:50:01"]
[24,3,"130","The Gilly Girls","Women's Pairs",null,null,"Keegan Anderson","00:24:29","00:24:29","L",null,"Donna Smrek","01:24:18",null,"01:24:18","00:59:49","M",null,"Donna Smrek","02:07:53","00:43:35","L",null,"Keegan Anderson","02:53:40","00:45:47","02:53:40"]
[25,4,"143","Team Bravo Zulu","Women's Pairs",null,null,"Laura Young","00:20:36","00:20:36","M",null,"Helen Bobiwash","01:25:00",null,"01:25:00","01:04:24","S",null,"Laura Young","02:01:58","00:36:58","M",null,"Helen Bobiwash","02:58:13","00:56:15","02:58:13"]
[21,5,"127","Double Trouble","Women's Pairs",null,null,"Paris Macey","00:19:44","00:19:44","M",null,"Paris Macey","01:26:21",null,"01:26:21","01:06:37","M",null,"Mylene Lefebvre","02:14:23","00:48:02","M",null,"Mylene Lefebvre","03:05:23","00:51:00","03:05:23"]
[23,6,"129","Why Are We friends?","Women's Pairs",null,null,"Terri Lepage","00:25:18","00:25:18","M",null,"Mariane Larose","01:33:10",null,"01:33:10","01:07:52","M",null,"Mariane Larose","02:20:33","00:47:23","M",null,"Terri Lepage","03:14:57","00:54:24","03:14:57"]
[27,null,"133",null,"Women's Pairs",null,null,null," "," ","L",null,null,null,null,"00:00:00",{"$error":"#VALUE!"},"M",null,null,null,"00:00:00","L",null,null,null,"00:00:00",{"$error":"#VALUE!"}]
[10,1,"116","Colin Ward","Solo m",null,null,{"$f":"D10","v":"Colin Ward"},"00:24:15","00:24:15","M",null,{"$f":"D10","v":"Colin Ward"},"01:15:41",null,"01:15:41","00:51:26","M",null,{"$f":"M10","v":"Colin Ward"},"01:49:34","00:33:53","M",null,{"$f":"D10","v":"Colin Ward"},"02:25:52","00:36:18","02:25:52"]
[8,2,"114","Joe Lonsdale","Solo m",null,null,"Joe Lonsdale","00:22:40","00:22:40","L",null,"Joe Lonsdale","01:14:53",null,"01:14:53","00:52:13","L",null,"Joe Lonsdale","01:49:24","00:34:31","L",null,"Joe Lonsdale","02:27:59","00:38:35","02:27:59"]
[9,3,"115","Alex Rose","Solo m",null,null,"Alex Rose","00:24:57","00:24:57","M",null,"Alex Rose","01:16:46",null,"01:16:46","00:51:49","m",null,"Alex Rose","01:53:40","00:36:54","L",null,"Alex Rose","02:31:52","00:38:12","02:31:52"]
[12,4,"118","Clinton Lahnalampi","Solo m",null,null,"Clinton Lahnalampi","00:23:06","00:23:06","M",null,"Clinton Lahnalampi","01:13:21",null,"01:13:21","00:50:15","M",null,"Clinton Lahnalampi","01:49:18","00:35:57","M",null,"Clinton Lahnalampi","02:32:24","00:43:06","02:32:24"]
[11,5,"117","Todd Withers","Solo m",null,null,"Todd Withers","00:27:29","00:27:29","M",null,"Todd Withers","01:27:44",null,"01:27:44","01:00:15","M",null,"Todd Withers","02:03:24","00:35:40","S",null,"Todd Withers","02:38:30","00:35:06","02:38:30"]
[13,6,"197","Thomas Gore","Solo m",null,null,"Thomas Gore","00:23:13","00:23:13","L",null,"Thomas Gore","x",null,{"$error":"#VALUE!"},{"$error":"#VALUE!"},"S",null,"Thomas Gore",null,{"$error":"#VALUE!"},"S",null,"Thomas Gore",null,"00:00:00","DNF"]
[14,null,"120",null,"Solo m",null,null,"00:00:00"," "," ","S",null,"00:00:00",null,null,"00:00:00",{"$error":"#VALUE!"},"S",null,"00:00:00",null,"00:00:00","S",null,"00:00:00",null,"00:00:00",{"$f":"SUM(AA16,J16,Q16,V16,)","v":{"$error":"#VALUE!"}}]
[1,1,"107","Sara McIlraith","Solo F",null,null,"Sara McIlraith","00:21:52","00:21:52","L",null,"Sara McIlraith","01:21:42",null,"01:21:42","00:59:50","L",null,"Sara McIlraith","01:55:40","00:33:58","M",null,"Sara McIlraith","02:29:01","00:33:21","02:29:01"]
[4,2,"110","Julie Rathwell","Solo F",null,null,"Julie Rathwell","00:19:49","00:19:49","L",null,"Julie Rathwell","01:14:44",null,"01:14:44","00:54:55","L",null,"Julie Rathwell","01:53:17","00:38:33","L",null,"Julie Rathwell","02:39:52","00:46:35","02:39:52"]
[3,3,"109","Monika Haring","Solo F",null,null,"Monika Haring","00:23:58","00:23:58","M",null,"Monika Haring","01:18:14",null,"01:18:14","00:54:16","M",null,"Monika Haring","02:00:35","00:42:21","M",null,"Monika Haring","02:40:16","00:39:41","02:40:16"]
[2,4,"108","Anik Dennie","Solo F",null,null,"Anik Dennie","00:22:42","00:22:42","S",null,"Anik Dennie","01:25:48",null,"01:25:48","01:03:06","M",null,"Anik Dennie","02:21:25","00:55:37","M",null,"Anik Dennie","03:16:37","00:55:12","03:16:37"]
[5,null,"111",null,"Solo F",null,null,"00:00:00"," "," ","L",null,"00:00:00",null,null,"00:00:00",{"$error":"#VALUE!"},"L",null,"00:00:00",null,"00:00:00","L",null,"00:00:00",null,"00:00:00",{"$error":"#VALUE!"}]
[null,1,"173","The Millers","mixed pairs",null,null,"Jenny Ryan","00:21:38","00:21:38",null,null,"Jenny Ryan","01:12:53",null,"01:12:53","00:51:15",null,null,"Tayte Kosmerly","01:46:00","00:33:07",null,null,"Tayte Kosmerly","02:24:00","00:38:00","02:24:00"]
[null,2,"193","Happy Campers","mixed pairs",null,null,"Ginny Denomme","00:20:48","00:20:48",null,null,"Paul Guerin","01:18:22",null,"01:18:22","00:57:34",null,null,"Ginny Denomme","01:57:59","00:39:37",null,null,"Paul Guerin","02:37:00","00:39:01","02:37:00"]
[null,3,"195","New 30","mixed pairs",null,null,"Robert Gregoris","00:19:56","00:19:56",null,null,"Kelly Louiseize","01:21:20",null,"01:21:20","01:01:24",null,null,"Robert Gregoris","01:50:36","00:29:16",null,null,"Kelly Louiseize","02:38:15","00:47:39","02:38:15"]
[null,4,"192","Dave & Anne Show","mixed pairs",null,null,"Anne Greenboots Boulton","00:22:39","00:22:39",null,null,"Dave Hawkins","01:16:25",null,"01:16:25","00:53:46",null,null,"Dave Hawkins","01:57:38","00:41:13",null,null,"Anne Greenboots Boulton","02:38:57","00:41:19","02:38:57"]
[null,5,"169","2x2","mixed pairs",null,null,"Buddy Green","00:13:46","00:13:46",null,null,"Kelly Bowie","01:22:35",null,"01:22:35","01:08:49",null,null,"Buddy Green","01:52:53","00:30:18",null,null,"Kelly Bowie","02:39:29","00:46:36","02:39:29"]
[null,6,"171","You Don't Even Know","mixed pairs",null,null,"Samantha Tobin","00:22:25","00:22:25",null,null,"Charlie Reid","01:12:47",null,"01:12:47","00:50:22",null,null,"Samantha Tobin","01:49:07","00:36:20",null,null,"Charlie Reid","02:41:53","00:52:46","02:41:53"]
[null,7,"168","Three Decades Later","mixed pairs",null,null,"Andre Allore","00:25:01","00:25:01",null,null,"Julia Skierszkan","01:33:08",null,"01:33:08","01:08:07",null,null,"Andre Allore","02:11:32","00:38:24",null,null,"Julia Skierszkan","03:02:15","00:50:43","03:02:15"]
[null,8,"172","Crohn's Awareness","mixed pairs",null,null,"Tatiana Allore","00:25:40","00:25:40",null,null,"Tatiana Allore","01:33:16",null,"01:33:16","01:07:36",null,null,"Edward Allore","02:18:23","00:45:07",null,null,"Tatiana Allore","03:07:25","00:49:02","03:07:25"]
[null,9,"170","Special K's","mixed pairs",null,null,"Kim Larkman","00:25:12","00:25:12",null,null,"Kim Larkman","01:27:48",null,"01:27:48","01:02:36",null,null,"Kyle Larkman","02:19:12","00:51:24",null,null,"Kyle Larkman","03:11:33","00:52:21","03:11:33"]
[null,10,"151",null,"mixed pairs",null,null,null," "," ",null,null,null,null,null,"00:00:00",{"$error":"#VALUE!"},null,null,null,null,"00:00:00",null,null,null,null,"00:00:00",{"$error":"#VALUE!"}]
[null,1,"160","MacHaPi","Men's Pairs",null,null,"Liam Passi","00:21:21","00:21:21",null,null,"John Macdonald","01:11:21",null,"01:11:21","00:50:00",null,null,"John Macdonald","01:47:35","00:36:14",null,null,"Liam Passi","02:16:48","00:29:13","02:16:48"]
[null,2,"166","Your Guards","Men's Pairs",null,null,"James Holden","00:18:58","00:18:58",null,null,"James Holden","01:11:01",null,"01:11:01","00:52:03",null,null,"Glen Young Gregoris","01:48:42","00:37:41",null,null,"Glen Young Gregoris","02:25:40","00:36:58","02:25:40"]
[null,3,"158","2 Old Farts in the Doghouse","Men's Pairs",null,null,"Steve Matusch","00:24:34","00:24:34",null,null,"Brent Walker","01:14:30",null,"01:14:30","00:49:56",null,null,"Brent Walker","01:48:47","00:34:17",null,null,"Steve Matusch","02:26:23","00:37:36","02:26:23"]
[null,4,"157","Skierszkan Brothers","Men's Pairs",null,null,"Karl Skierszkan ","00:28:52",{"$f":"I35","v":"00:28:52"},null,null,"Simon Skierszkan","01:28:46",null,{"$f":"N35-O35","v":"01:28:46"},{"$f":"P35-I35","v":"00:59:54"},null,null,"Karl Skierszkan ","02:03:40",{"$f":"U35-N35","v":"00:34:54"},null,null,"Simon Skierszkan","02:48:46",{"$f":"Z35-U35","v":"00:45:06"},"02:48:46"]
[null,5,"156","Walk'n'Hop","Men's Pairs",null,null,"Brad Walker","00:23:15","00:23:15",null,null,"Brad Walker","01:20:20",null,"01:20:20","00:57:05",null,null,"Scott Hopkins","01:58:57","00:38:37",null,null,"Scott Hopkins","02:49:18","00:50:21","02:49:18"]
[null,6,"159","Tutor & Student","Men's Pairs",null,null,"Yuhang Xu","00:32:52","00:32:52",null,null,"Yuhang Xu","01:32:30",null,"01:32:30","00:59:38",null,null,"Joe Farrell","02:09:31","00:37:01",null,null,"Yuhang Xu","02:50:10","00:40:39","02:50:10"]
[35,null,"141",null,"Men's Pairs",null,null,null," "," ","M",null,null,null,null,"00:00:00",{"$error":"#VALUE!"},"M",null,null,null,"00:00:00","M",null,null,null,"00:00:00",{"$error":"#VALUE!"}]
[null,1,"189","Four plus One","Four Women",null,null,"Lindsay Lima","00:20:39","00:20:39",null,null,"Tracy Hayes","01:22:35",null,"01:22:35","01:01:56",null,null,"Ashley Kerckhoff","02:02:35","00:40:00",null,null,"Shelley Watson","02:45:42","00:43:07","02:45:42"]
[null,2,"187","Great Grand-daughter & Friends","Four Women",null,null,"Kelly Hotta","00:15:49","00:15:49",null,null,"Sue Bale","01:24:03",null,"01:24:03","01:08:14",null,null,"Patricia Hennessy","02:02:56","00:38:53",null,null,"Sophie Roberge","02:50:54","00:47:58","02:50:54"]
[null,3,"190","2 Legit 2 Quit ","Four Women",null,null,"Tania Mariotti","00:28:59","00:28:59",null,null,"Renee Maltas","01:31:18",null,"01:31:18","01:02:19",null,null,"Chislaine Goudreau","02:14:41","00:43:23",null,null,"Leanne Cecchetto","02:56:06","00:41:25","02:56:06"]
[null,4,"186","Half the Wabbits","Four Women",null,null,"Karen Broughton","00:23:12","00:23:12",null,null,"Karen Renout","01:26:38",null,"01:26:38","01:03:26",null,null,"Marcie Neuburger","02:11:46","00:45:08",null,null,"Philippa Spoel","03:00:20","00:48:34","03:00:20"]
[null,5,"191","Mix and Match","Four Women",null,null,"Laura Bewick","00:22:26","00:22:26",null,null,"Kirsten Zazelenchuk","01:23:09",null,"01:23:09","01:00:43",null,null,"Helen Loiselle","02:06:28","00:43:19",null,null,"Alison Godwin","03:00:48","00:54:20","03:00:48"]
[null,6,"188","4 x Forties","Four Women",null,null,"Laura Stanyon","00:19:57","00:19:57",null,null,"Nicola Macey","01:46:15",null,"01:46:15","01:26:18",null,null,"Lyne Giroux","02:41:53","00:55:38",null,null,"Tania Burton","03:21:30","00:39:37","03:21:30"]
[null,7,"167","The Pink Panters","Four Mixed",null,null,"Matt Cays","00:21:35","00:21:35",null,null,"Erica Bota","01:13:39",null,"01:13:39","00:52:04",null,null,"Matt Cays","01:48:07","00:34:28",null,null," ","02:25:52","00:37:45","02:25:52"]
[null,8,"177","The Fearsome Foursome","Four Mixed",null,null,"Jane Russel","00:22:37","00:22:37",null,null,"Linda Conroy","01:19:25",null,"01:19:25","00:56:48",null,null,"Norm Milford","01:52:07","00:32:42",null,null,"Jarod Milford","02:26:51","00:34:44","02:26:51"]
[null,9,"175","Danger Cat","Four Mixed",null,null,"Sylvia Donato","00:20:39","00:20:39",null,null,"Andrew Noob","01:16:36",null,"01:16:36","00:55:57",null,null,"Randy Donato","01:48:51","00:32:15",null,null,"Amanda Nero","02:30:47","00:41:56","02:30:47"]
[null,10,"179","Kerry and Co.","Four Mixed",null,null,"Lea Bray-Green","00:21:54","00:21:54",null,null,"Ali Cummings","01:22:55",null,"01:22:55","01:01:01",null,null,"Neal Younggregoris","02:00:13","00:37:18",null,null,"Kerry Abols","02:31:48","00:31:35",{"$f":"SUM(AA48,J48,Q48,V48,)","v":"02:31:48"}]
[null,11,"194","Wrecked Us Femoris","Four Mixed",null,null,"Jess Hanson","00:21:16","00:21:16",null,null,"Chris Gore","01:11:15",null,"01:11:15","00:49:59",null,null,"Bob Hanson","01:46:59","00:35:44",null,null,"Jess Hanson","02:33:38","00:46:39","02:33:38"]
[null,12,"178","Fantastic Four","Four Mixed",null,null,"Megan Gran","00:25:50","00:25:50",null,null,"Paul Prosperi","01:16:32",null,"01:16:32","00:50:42",null,null,"Connor Gran","01:55:05","00:38:33",null,null,"Judy Gougeon","02:36:15","00:41:10","02:36:15"]
[null,13,"174","B-Wad Ski Squad","Four Mixed",null,null,"Liam Marcolini","00:22:29","00:22:29",null,null,"Kate Richards","01:54:42",null,"01:54:42","01:32:13",null,null,"Adrian Marcolini","02:35:30","00:40:48",null,null,"Allison Caswell","03:11:57","00:36:27","03:11:57"]
[null,14,"176","Beaton'yall","Four Mixed",null,null,"Nancy Rose","00:35:17","00:35:17",null,null,"Kiara Lalande","01:42:00",null,"01:42:00","01:06:43",null,null,"Mark Rose","02:22:46","00:40:46",null,null,"Nancy Rose","03:13:39","00:50:53","03:13:39"]
[null,null,"162",null,"Four Mixed",null,null,null," "," ",null,null,null,null,null,"00:00:00",{"$error":"#VALUE!"},null,null,null,null,"00:00:00",null,null,null,null,"00:00:00",{"$error":"#VALUE!"}]
[null,1,"181","In Honour of the Kosmerly Clan!","Four Men",null,null,"Tamara Flannigan","00:17:21","00:17:21",null,null,"James Larmer","01:03:02",null,"01:03:02","00:45:41",null,null,"John Larmer","01:33:19","00:30:17",null,null,"Pascal Renard","01:59:39","00:26:20","01:59:39"]
[null,2,"182","The French Connection","Four Men",null,null,"Joshua Post","00:18:24","00:18:24",null,null,"Marc Nellis","01:06:45",null,"01:06:45","00:48:21",null,null,"Jean-Francois Larochelle","01:39:07","00:32:22",null,null,"Marc Larochelle","02:11:54","00:32:47","02:11:54"]
[null,3,"180","4 Guys Burgers and Fries","Four Men",null,null,"Everett Smith","00:15:36","00:15:36",null,null,"Kelly Thompson","01:13:01",null,"01:13:01","00:57:25",null,null,"Thomas Webb","01:52:04","00:39:03",null,null,"Josh Tillson","02:23:01","00:30:57","02:23:01"]
[null,4,"183","North/South","Four Men",null,null,"Alex Sarvas","00:18:31","00:18:31",null,null,"Brad Smith","01:19:19",null,"01:19:19","01:00:48",null,null,"Alain Gauthier","01:55:45","00:36:26",null,null,"Ryan Bradshaw","02:28:15","00:32:30","02:28:15"]
[null,5,"184","Fly By Knights","Four Men",null,null,"Chris Dodds","00:20:01","00:20:01",null,null,"Craig Runciman","01:20:34",null,"01:20:34","01:00:33",null,null,"Casey Crowe","02:17:09","00:56:35",null,null,"Reinhardt Grobler","02:57:00","00:39:51","02:57:00"]
[null,null,"196",null,null,null,null,null,null,"00:00:00",null,null,null,null,null,"00:00:00","00:00:00",null,null,null,null,"00:00:00",null,null,null,null,"00:00:00","00:00:00"]
[null,null,"197",null,null,null,null,null,null,"00:00:00",null,null,null,null,null,"00:00:00","00:00:00",null,null,null,null,"00:00:00",null,null,null,null,"00:00:00","00:00:00"]
[null,null,"198",null,null,null,null,null,null,"00:00:00",null,null,null,null,null,"00:00:00","00:00:00",null,null,null,null,"00:00:00",null,null,null,null,"00:00:00","00:00:00"]
[null,null,"199",null,null,null,null,null,null,"00:00:00",null,null,null,null,null,"00:00:00","00:00:00",null,null,null,null,"00:00:00",null,null,null,null,"00:00:00","00:00:00"]
[null,null,"200",null,null,null,null,null,null,"00:00:00",null,null,null,null,null,"00:00:00","00:00:00",null,null,null,null,"00:00:00",null,null,null,null,"00:00:00","00:00:00"]
[null,null,"201",null,null,null,null,null,null,"00:00:00",null,null,null,null,null,"00:00:00","00:00:00",null,null,null,null,"00:00:00",null,null,null,null,"00:00:00","00:00:00"]
[null,null,"202",null,null,null,null,null,null,{"$f":"I65","v":"00:00:00"},null,null,null,null,null,{"$f":"N65-O65","v":"00:00:00"},{"$f":"P65-I65","v":"00:00:00"},null,null,null,null,{"$f":"U65-N65","v":"00:00:00"},null,null,null,null,{"$f":"Z65-U65","v":"00:00:00"},{"$f":"SUM(AA65,J65,Q65,V65,)","v":"00:00:00"}]
[null,null,"203",null,null,null,null,null,null,"00:00:00",null,null,null,null,null,"00:00:00","00:00:00",null,null,null,null,"00:00:00",null,null,null,null,"00:00:00","00:00:00"]
[null,null,"204",null,null,null,null,null,null,"00:00:00",null,null,null,null,null,"00:00:00","00:00:00",null,null,null,null,"00:00:00",null,null,null,null,"00:00:00","00:00:00"]
[null,null,"205",null,null,null,null,null,null,"00:00:00",null,null,null,null,null,"00:00:00","00:00:00",null,null,null,null,"00:00:00",null,null,null,null,"00:00:00","00:00:00"]
[null,null,"206",null,null,null,null,null,null,"00:00:00",null,null,null,null,null,"00:00:00","00:00:00",null,null,null,null,"00:00:00",null,null,null,null,{"$f":"Z69-U69","v":"00:00:00"},{"$f":"SUM(AA69,J69,Q69,V69,)","v":"00:00:00"}]
[null,null,"207",null,null,null,null,null,null,"00:00:00",null,null,null,null,null,"00:00:00","00:00:00",null,null,null,null,"00:00:00",null,null,null,null,"00:00:00","00:00:00"]
[null,null,"208",null,null,null,null,null,null,"00:00:00",null,null,null,null,null,"00:00:00","00:00:00",null,null,null,null,"00:00:00",null,null,null,null,"00:00:00","00:00:00"]
[null,null,"209",null,null,null,null,null,null,"00:00:00",null,null,null,null,null,"00:00:00","00:00:00",null,null,null,null,"00:00:00",null,null,null,null,"00:00:00","00:00:00"]
[null,null,"210",null,null,null,null,null,null,"00:00:00",null,null,null,null,null,"00:00:00","00:00:00",null,null,null,null,"00:00:00",null,null,null,null,"00:00:00","00:00:00"]
[null,null,"211",null,null,null,null,null,null,"00:00:00",null,null,null,null,null,"00:00:00","00:00:00",null,null,null,null,"00:00:00",null,null,null,null,"00:00:00","00:00:00"]
[null,null,"212",null,null,null,null,null,null,"00:00:00",null,null,null,null,null,"00:00:00","00:00:00",null,null,null,null,"00:00:00",null,null,null,null,"00:00:00","00:00:00"]
[null,null,"213",null,null,null,null,null,null,"00:00:00",null,null,null,null,null,"00:00:00","00:00:00",null,null,null,null,"00:00:00",null,null,null,null,"00:00:00","00:00:00"]
[null,null,"214",null,null,null,null,null,null,"00:00:00",null,null,null,null,null,"00:00:00","00:00:00",null,null,null,null,"00:00:00",null,null,null,null,"00:00:00","00:00:00"]
[null,null,"215",null,null,null,null,null,null,"00:00:00",null,null,null,null,null,"00:00:00","00:00:00",null,null,null,null,"00:00:00",null,null,null,null,"00:00:00","00:00:00"]
[null,null,"216",null,null,null,null,null,null,"00:00:00",null,null,null,null,null,"00:00:00","00:00:00",null,null,null,null,"00:00:00",null,null,null,null,"00:00:00","00:00:00"]
[null,null,"217",null,null,null,null,null,null,"00:00:00",null,null,null,null,null,"00:00:00","00:00:00",null,null,null,null,"00:00:00",null,null,null,null,"00:00:00","00:00:00"]
[null,null,"218",null,null,null,null,null,null,{"$f":"I81","v":"00:00:00"},null,null,null,null,null,"00:00:00","00:00:00",null,null,null,null,"00:00:00",null,null,null,null,"00:00:00","00:00:00"]
[null,null,"219",null,null,null,null,null,null,"00:00:00",null,null,null,null,null,"00:00:00","00:00:00",null,null,null,null,"00:00:00",null,null,null,null,"00:00:00","00:00:00"]
[null,null,"220",null,null,null,null,null,null,"00:00:00",null,null,null,null,null,"00:00:00","00:00:00",null,null,null,null,"00:00:00",null,null,null,null,"00:00:00","00:00:00"]
[null,null,"221",null,null,null,null,null,null,"00:00:00",null,null,null,null,null,"00:00:00","00:00:00",null,null,null,null,"00:00:00",null,null,null,null,"00:00:00","00:00:00"]
[null,null,"222",null,null,null,null,null,null,"00:00:00",null,null,null,null,null,"00:00:00","00:00:00",null,null,null,null,"00:00:00",null,null,null,null,"00:00:00","00:00:00"]
[null,null,"223",null,null,null,null,null,null,"00:00:00",null,null,null,null,null,"00:00:00","00:00:00",null,null,null,null,"00:00:00",null,null,null,null,"00:00:00","00:00:00"]
[null,null,"224",null,null,null,null,null,null,"00:00:00",null,null,null,null,null,"00:00:00","00:00:00",null,null,null,null,"00:00:00",null,null,null,null,"00:00:00","00:00:00"]
[null,null,"225",null,null,null,null,null,null,"00:00:00",null,null,null,null,null,"00:00:00","00:00:00",null,null,null,null,"00:00:00",null,null,null,null,"00:00:00","00:00:00"]
[null,null,"226",null,null,null,null,null,null,"00:00:00",null,null,null,null,null,"00:00:00","00:00:00",null,null,null,null,"00:00:00",null,null,null,null,"00:00:00","00:00:00"]
[null,null,"227",null,null,null,null,null,null,"00:00:00",null,null,null,null,null,"00:00:00","00:00:00",null,null,null,null,"00:00:00",null,null,null,null,"00:00:00","00:00:00"]
[null,null,"228",null,null,null,null,null,null,"00:00:00",null,null,null,null,null,"00:00:00","00:00:00",null,null,null,null,"00:00:00",null,null,null,null,"00:00:00","00:00:00"]
[null,null,"229",null,null,null,null,null,null,"00:00:00",null,null,null,null,null,"00:00:00","00:00:00",null,null,null,null,"00:00:00",null,null,null,null,"00:00:00","00:00:00"]
[null,null,200,null,null,null,null,null,null,"00:00:00",null,null,null,null,null,"00:00:00","00:00:00",null,null,null,null,"00:00:00",null,null,null,null,"00:00:00","00:00:00"]
[null,null,null,null,null,null,null,null,null,"00:00:00",null,null,null,null,null,"00:00:00","00:00:00",null,null,null,null,"00:00:00",null,null,null,null,"00:00:00","00:00:00"]
[null,null,{"$f":"C93+1","v":201},null,"DQ",null,"f11",null,null,"00:00:00",null,null,null,null,null,"00:00:00","00:00:00",null,null,null,null,"00:00:00",null,null,null,null,"00:00:00","00:00:00"]
[null,null,"Time",null,null,null,null,null,null,"00:00:00",null,null,null,null,null,"00:00:00","00:00:00",null,null,null,null,"00:00:00",null,null,null,null,"00:00:00","00:00:00"]
[null,null,{"$f":"C95+1","v":202},null,"DQ",null,"m11",null,null,"00:00:00",null,null,null,null,null,"00:00:00","00:00:00",null,null,null,null,"00:00:00",null,null,null,null,"00:00:00","00:00:00"]
[null,null,"Time",null,null,null,null,null,null,"00:00:00",null,null,null,null,null,"00:00:00","00:00:00",null,null,null,null,"00:00:00",null,null,null,null,"00:00:00","00:00:00"]
[null,null,{"$f":"C97+1","v":203},null,"DQ",null,"m10",null,null,"00:00:00",null,null,null,null,null,{"$f":"N99-O99","v":"00:00:00"},{"$f":"P99-I99","v":"00:00:00"},null,null,null,null,"00:00:00",null,null,null,null,"00:00:00","00:00:00"]
[null,null,"Time",null,null,null,null,null,null,"00:00:00",null,null,null,null,null,"00:00:00","00:00:00",null,null,null,null,"00:00:00",null,null,null,null,"00:00:00","00:00:00"]
[null,null,{"$f":"C99+1","v":204},null,"DQ",null,"f10",null,null,"00:00:00",null,null,null,null,null,"00:00:00","00:00:00",null,null,null,null,"00:00:00",null,null,null,null,"00:00:00","00:00:00"]
[null,null,"Time",null,null,null,null,null,null,"00:00:00",null,null,null,null,null,"00:00:00","00:00:00",null,null,null,null,"00:00:00",null,null,null,null,"00:00:00","00:00:00"]
[null,null,{"$f":"C101+1","v":205},null,"DQ",null,"m8",null,null,"00:00:00",null,null,null,null,null,"00:00:00","00:00:00",null,null,null,null,"00:00:00",null,null,null,null,"00:00:00","00:00:00"]
[null,null,"Time",null,null,null,null,null,null,"00:00:00",null,null,null,null,null,"00:00:00","00:00:00",null,null,null,null,"00:00:00",null,null,null,null,"00:00:00","00:00:00"]
[null,null,{"$f":"C103+1","v":206},null,"DQ",null,"m12",null,null,"00:00:00",null,null,null,null,null,"00:00:00","00:00:00",null,null,null,null,"00:00:00",null,null,null,null,"00:00:00","00:00:00"]
[null,null,"Time",null,null,null,null,null,null,"00:00:00",null,null,null,null,null,"00:00:00","00:00:00",null,null,null,null,"00:00:00",null,null,null,null,"00:00:00","00:00:00"]
[null,null,{"$f":"C105+1","v":207},null,"DQ",null,"m11",null,null,"00:00:00",null,null,null,null,null,"00:00:00","00:00:00",null,null,null,null,"00:00:00",null,null,null,null,"00:00:00","00:00:00"]
[null,null,"Time",null,null,null,null,null,null,"00:00:00",null,null,null,null,null,"00:00:00","00:00:00",null,null,null,null,"00:00:00",null,null,null,null,"00:00:00","00:00:00"]
[null,null,{"$f":"C107+1","v":208},null,"DQ",null,"f7",null,null,"00:00:00",null,null,null,null,null,"00:00:00","00:00:00",null,null,null,null,"00:00:00",null,null,null,null,"00:00:00","00:00:00"]
[null,null,"Time",null,null,null,null,null,null,"00:00:00",null,null,null,null,null,"00:00:00","00:00:00",null,null,null,null,"00:00:00",null,null,null,null,"00:00:00","00:00:00"]
[null,null,{"$f":"C109+1","v":209},null,"DQ",null,"f9",null,null,"00:00:00",null,null,null,null,null,"00:00:00","00:00:00",null,null,null,null,"00:00:00",null,null,null,null,"00:00:00","00:00:00"]
[null,null,"Time",null,null,null,null,null,null,"00:00:00",null,null,null,null,null,"00:00:00","00:00:00",null,null,null,null,"00:00:00",null,null,null,null,"00:00:00","00:00:00"]
[null,null,{"$f":"C111+1","v":210},null,"DQ",null,"m12",null,null,"00:00:00",null,null,null,null,null,"00:00:00","00:00:00",null,null,null,null,"00:00:00",null,null,null,null,"00:00:00","00:00:00"]
[null,null,"Time",null,null,null,null,null,null,"00:00:00",null,null,null,null,null,"00:00:00","00:00:00",null,null,null,null,"00:00:00",null,null,null,null,"00:00:00","00:00:00"]
[null,null,{"$f":"C113+1","v":211},null,"DQ",null,"m?",null,null,"00:00:00",null,null,null,null,null,"00:00:00","00:00:00",null,null,null,null,{"$f":"U115-N115","v":"00:00:00"},null,null,null,null,"00:00:00","00:00:00"]
[null,null,"Time",null,null,null,null,null,null,"00:00:00",null,null,null,null,null,"00:00:00","00:00:00",null,null,null,null,"00:00:00",null,null,null,null,"00:00:00","00:00:00"]
[null,null,{"$f":"C115+1","v":212},null,"DQ",null,"m12",null,null,"00:00:00",null,null,null,null,null,"00:00:00","00:00:00",null,null,null,null,"00:00:00",null,null,null,null,"00:00:00","00:00:00"]
[null,null,"Time",null,null,null,null,null,null,"00:00:00",null,null,null,null,null,"00:00:00","00:00:00",null,null,null,null,"00:00:00",null,null,null,null,"00:00:00","00:00:00"]
[null,null,{"$f":"C117+1","v":213},null,"DQ",null,"f8",null,null,"00:00:00",null,null,null,null,null,"00:00:00","00:00:00",null,null,null,null,"00:00:00",null,null,null,null,"00:00:00","00:00:00"]
[null,null,"Time",null,null,null,null,null,null,"00:00:00",null,null,null,null,null,"00:00:00","00:00:00",null,null,null,null,"00:00:00",null,null,null,null,"00:00:00","00:00:00"]
[null,null,{"$f":"C119+1","v":214},null,"DQ",null,"m12",null,null,"00:00:00",null,null,null,null,null,"00:00:00","00:00:00",null,null,null,null,"00:00:00",null,null,null,null,"00:00:00","00:00:00"]
[null,null,"Time",null,null,null,null,null,null,"00:00:00",null,null,null,null,null,"00:00:00","00:00:00",null,null,null,null,"00:00:00",null,null,null,null,"00:00:00","00:00:00"]
[null,null,{"$f":"C121+1","v":215},null,"DQ",null,"f11",null,null,"00:00:00",null,null,null,null,null,"00:00:00","00:00:00",null,null,null,null,"00:00:00",null,null,null,null,"00:00:00","00:00:00"]
[null,null,"Time",null,null,null,null,null,null,"00:00:00",null,null,null,null,null,"00:00:00","00:00:00",null,null,null,null,"00:00:00",null,null,null,null,"00:00:00","00:00:00"]
[null,null,{"$f":"C123+1","v":216},null,null,null,null,null,null,"00:00:00",null,null,null,null,null,"00:00:00","00:00:00",null,null,null,null,"00:00:00",null,null,null,null,"00:00:00","00:00:00"]
[null,null,"Time",null,null,null,null,null,null,"00:00:00",null,null,null,null,null,"00:00:00","00:00:00",null,null,null,null,{"$f":"U126-N126","v":"00:00:00"},null,null,null,null,"00:00:00",{"$f":"SUM(AA126,J126,Q126,V126,)","v":"00:00:00"}]
[null,null,{"$f":"C125+1","v":217},null,null,null,null,null,null,"00:00:00",null,null,null,null,null,"00:00:00","00:00:00",null,null,null,null,"00:00:00",null,null,null,null,"00:00:00","00:00:00"]
[null,null,"Time",null,null,null,null,null,null,"00:00:00",null,null,null,null,null,"00:00:00","00:00:00",null,null,null,null,"00:00:00",null,null,null,null,"00:00:00","00:00:00"]
[null,null,{"$f":"C127+1","v":218},null,null,null,null,null,null,"00:00:00",null,null,null,null,null,"00:00:00","00:00:00",null,null,null,null,"00:00:00",null,null,null,null,"00:00:00","00:00:00"]
[null,null,"Time",null,null,null,null,null,null,"00:00:00",null,null,null,null,null,"00:00:00","00:00:00",null,null,null,null,"00:00:00",null,null,null,null,"00:00:00","00:00:00"]
[null,null,{"$f":"C129+1","v":219},null,null,null,null,null,null,"00:00:00",null,null,null,null,null,"00:00:00","00:00:00",null,null,null,null,"00:00:00",null,null,null,null,"00:00:00","00:00:00"]
[null,null,"Time",null,null,null,null,null,null,"00:00:00",null,null,null,null,null,"00:00:00","00:00:00",null,null,null,null,"00:00:00",null,null,null,null,"00:00:00","00:00:00"]
[null,null,{"$f":"C131+1","v":220},null,null,null,null,null,null,"00:00:00",null,null,null,null,null,"00:00:00","00:00:00",null,null,null,null,"00:00:00",null,null,null,null,{"$f":"Z133-U133","v":"00:00:00"},{"$f":"SUM(AA133,J133,Q133,V133,)","v":"00:00:00"}]
[null,null,"Time",null,null,null,null,null,null,"00:00:00",null,null,null,null,null,"00:00:00","00:00:00",null,null,null,null,"00:00:00",null,null,null,null,"00:00:00","00:00:00"]
[null,null,{"$f":"C133+1","v":221},null,null,null,null,null,null,"00:00:00",null,null,null,null,null,"00:00:00","00:00:00",null,null,null,null,"00:00:00",null,null,null,null,"00:00:00","00:00:00"]
[null,null,"Time",null,null,null,null,null,null,"00:00:00",null,null,null,null,null,"00:00:00","00:00:00",null,null,null,null,"00:00:00",null,null,null,null,"00:00:00","00:00:00"]
[null,null,{"$f":"C135+1","v":222},null,null,null,null,null,null,"00:00:00",null,null,null,null,null,"00:00:00","00:00:00",null,null,null,null,"00:00:00",null,null,null,null,"00:00:00","00:00:00"]
[null,null,"Time",null,null,null,null,null,null,"00:00:00",null,null,null,null,null,"00:00:00","00:00:00",null,null,null,null,"00:00:00",null,null,null,null,"00:00:00","00:00:00"]
[null,null,{"$f":"C137+1","v":223},null,null,null,null,null,null,"00:00:00",null,null,null,null,null,"00:00:00","00:00:00",null,null,null,null,"00:00:00",null,null,null,null,"00:00:00","00:00:00"]
[null,null,null,null,null,null,null,null,null,"00:00:00",null,null,null,null,null,"00:00:00","00:00:00",null,null,null,null,"00:00:00",null,null,null,null,"00:00:00","00:00:00"]
[null,null,null,null,null,null,null,null,null,"00:00:00",null,null,null,null,null,"00:00:00","00:00:00",null,null,null,null,"00:00:00",null,null,null,null,"00:00:00","00:00:00"]
[null,null,null,null,null,null,null,null,null,"00:00:00",null,null,null,null,null,"00:00:00","00:00:00",null,null,null,null,"00:00:00",null,null,null,null,"00:00:00","00:00:00"]
[null,null,null,null,null,null,null,null,null,"00:00:00",null,null,null,null,null,"00:00:00","00:00:00",null,null,null,null,"00:00:00",null,null,null,null,"00:00:00","00:00:00"]
[null,null,null,null,null,null,null,null,null,"00:00:00",null,null,null,null,null,"00:00:00","00:00:00",null,null,null,null,"00:00:00",null,null,null,null,"00:00:00","00:00:00"]
[null,null,null,null,null,null,null,null,null,{"$f":"I145","v":"00:00:00"},null,null,null,null,null,"00:00:00","00:00:00",null,null,null,null,"00:00:00",null,null,null,null,"00:00:00","00:00:00"]
[null,null,null,null,null,null,null,null,null,"00:00:00",null,null,null,null,null,"00:00:00","00:00:00",null,null,null,null,"00:00:00",null,null,null,null,"00:00:00","00:00:00"]
[null,null,null,null,null,null,null,null,null,"00:00:00",null,null,null,null,null,"00:00:00","00:00:00",null,null,null,null,"00:00:00",null,null,null,null,"00:00:00","00:00:00"]
[null,null,null,null,null,null,null,null,null,"00:00:00",null,null,null,null,null,"00:00:00","00:00:00",null,null,null,null,"00:00:00",null,null,null,null,"00:00:00","00:00:00"]
[null,null,null,null,null,null,null,null,null,"00:00:00",null,null,null,null,null,"00:00:00","00:00:00",null,null,null,null,"00:00:00",null,null,null,null,"00:00:00","00:00:00"]
[null,null,null,null,null,null,null,null,null,"00:00:00",null,null,null,null,null,"00:00:00","00:00:00",null,null,null,null,"00:00:00",null,null,null,null,"00:00:00","00:00:00"]
[null,null,null,null,null,null,null,null,null,"00:00:00",null,null,null,null,null,"00:00:00","00:00:00",null,null,null,null,"00:00:00",null,null,null,null,"00:00:00","00:00:00"]
[null,null,null,null,null,null,null,null,null,"00:00:00",null,null,null,null,null,"00:00:00","00:00:00",null,null,null,null,"00:00:00",null,null,null,null,"00:00:00","00:00:00"]
[null,null,null,null,null,null,null,null,null,"00:00:00",null,null,null,null,null,"00:00:00","00:00:00",null,null,null,null,"00:00:00",null,null,null,null,"00:00:00","00:00:00"]
[null,null,null,null,null,null,null,null,null,"00:00:00",null,null,null,null,null,"00:00:00","00:00:00",null,null,null,null,"00:00:00",null,null,null,null,"00:00:00","00:00:00"]
[null,null,null,null,null,null,null,null,null,"00:00:00",null,null,null,null,null,"00:00:00","00:00:00",null,null,null,null,"00:00:00",null,null,null,null,"00:00:00","00:00:00"]
[null,null,null,null,null,null,null,null,null,"00:00:00",null,null,null,null,null,"00:00:00","00:00:00",null,null,null,null,"00:00:00",null,null,null,null,"00:00:00","00:00:00"]
[null,null,null,null,null,null,null,null,null,"00:00:00",null,null,null,null,null,"00:00:00","00:00:00",null,null,null,null,"00:00:00",null,null,null,null,"00:00:00","00:00:00"]
[null,null,null,null,null,null,null,null,null,"00:00:00",null,null,null,null,null,"00:00:00","00:00:00",null,null,null,null,"00:00:00",null,null,null,null,"00:00:00","00:00:00"]
[null,null,null,null,null,null,null,null,null,"00:00:00",null,null,null,null,null,"00:00:00","00:00:00",null,null,null,null,"00:00:00",null,null,null,null,"00:00:00","00:00:00"]
[null,null,null,null,null,null,null,null,null,"00:00:00",null,null,null,null,null,"00:00:00","00:00:00",null,null,null,null,"00:00:00",null,null,null,null,"00:00:00","00:00:00"]
[null,null,null,null,null,null,null,null,null,"00:00:00",null,null,null,null,null,"00:00:00","00:00:00",null,null,null,null,"00:00:00",null,null,null,null,"00:00:00","00:00:00"]
[null,null,null,null,null,null,null,null,null,"00:00:00",null,null,null,null,null,"00:00:00","00:00:00",null,null,null,null,"00:00:00",null,null,null,null,"00:00:00","00:00:00"]
[null,null,null,null,null,null,null,null,null,"00:00:00",null,null,null,null,null,{"$f":"N163-O163","v":"00:00:00"},{"$f":"P163-I163","v":"00:00:00"},null,null,null,null,"00:00:00",null,null,null,null,"00:00:00","00:00:00"]
[null,null,null,null,null,null,null,null,null,"00:00:00",null,null,null,null,null,"00:00:00","00:00:00",null,null,null,null,"00:00:00",null,null,null,null,"00:00:00","00:00:00"]
[null,null,null,null,null,null,null,null,null,"00:00:00",null,null,null,null,null,"00:00:00","00:00:00",null,null,null,null,"00:00:00",null,null,null,null,"00:00:00","00:00:00"]
[null,null,null,null,null,null,null,null,null,"00:00:00",null,null,null,null,null,"00:00:00","00:00:00",null,null,null,null,"00:00:00",null,null,null,null,"00:00:00","00:00:00"]
[null,null,null,null,null,null,null,null,null,"00:00:00",null,null,null,null,null,"00:00:00","00:00:00",null,null,null,null,"00:00:00",null,null,null,null,"00:00:00","00:00:00"]
[null,null,null,null,null,null,null,null,null,"00:00:00",null,null,null,null,null,"00:00:00","00:00:00",null,null,null,null,"00:00:00",null,null,null,null,"00:00:00","00:00:00"]
[null,null,null,null,null,null,null,null,null,"00:00:00",null,null,null,null,null,"00:00:00","00:00:00",null,null,null,null,"00:00:00",null,null,null,null,"00:00:00","00:00:00"]
[null,null,null,null,null,null,null,null,null,"00:00:00",null,null,null,null,null,"00:00:00","00:00:00",null,null,null,null,"00:00:00",null,null,null,null,"00:00:00","00:00:00"]
[null,null,null,null,null,null,null,null,null,"00:00:00",null,null,null,null,null,"00:00:00","00:00:00",null,null,null,null,"00:00:00",null,null,null,null,"00:00:00","00:00:00"]
[null,null,null,null,null,null,null,null,null,"00:00:00",null,null,null,null,null,"00:00:00","00:00:00",null,null,null,null,"00:00:00",null,null,null,null,"00:00:00","00:00:00"]
[null,null,null,null,null,null,null,null,null,"00:00:00",null,null,null,null,null,"00:00:00","00:00:00",null,null,null,null,"00:00:00",null,null,null,null,"00:00:00","00:00:00"]
[null,null,null,null,null,null,null,null,null,"00:00:00",null,null,null,null,null,"00:00:00","00:00:00",null,null,null,null,"00:00:00",null,null,null,null,"00:00:00","00:00:00"]
[null,null,null,null,null,null,null,null,null,"00:00:00",null,null,null,null,null,"00:00:00","00:00:00",null,null,null,null,"00:00:00",null,null,null,null,"00:00:00","00:00:00"]
[null,null,null,null,null,null,null,null,null,"00:00:00",null,null,null,null,null,"00:00:00","00:00:00",null,null,null,null,"00:00:00",null,null,null,null,"00:00:00","00:00:00"]
[null,null,null,null,null,null,null,null,null,"00:00:00",null,null,null,null,null,"00:00:00","00:00:00",null,null,null,null,"00:00:00",null,null,null,null,"00:00:00","00:00:00"]
[null,null,null,null,null,null,null,null,null,"00:00:00",null,null,null,null,null,"00:00:00","00:00:00",null,null,null,null,"00:00:00",null,null,null,null,"00:00:00","00:00:00"]
[null,null,null,null,null,null,null,null,null,"00:00:00",null,null,null,null,null,"00:00:00","00:00:00",null,null,null,null,{"$f":"U179-N179","v":"00:00:00"},null,null,null,null,"00:00:00","00:00:00"]
[null,null,null,null,null,null,null,null,null,"00:00:00",null,null,null,null,null,"00:00:00","00:00:00",null,null,null,null,"00:00:00",null,null,null,null,"00:00:00","00:00:00"]
[null,null,null,null,null,null,null,null,null,"00:00:00",null,null,null,null,null,"00:00:00","00:00:00",null,null,null,null,"00:00:00",null,null,null,null,"00:00:00","00:00:00"]
[null,null,null,null,null,null,null,null,null,"00:00:00",null,null,null,null,null,"00:00:00","00:00:00",null,null,null,null,"00:00:00",null,null,null,null,"00:00:00","00:00:00"]
[null,null,null,null,null,null,null,null,null,"00:00:00",null,null,null,null,null,"00:00:00","00:00:00",null,null,null,null,"00:00:00",null,null,null,null,"00:00:00","00:00:00"]
[null,null,null,null,null,null,null,null,null,"00:00:00",null,null,null,null,null,"00:00:00","00:00:00",null,null,null,null,"00:00:00",null,null,null,null,"00:00:00","00:00:00"]
[null,null,null,null,null,null,null,null,null,"00:00:00",null,null,null,null,null,"00:00:00","00:00:00",null,null,null,null,"00:00:00",null,null,null,null,"00:00:00","00:00:00"]
[null,null,null,null,null,null,null,null,null,"00:00:00",null,null,null,null,null,"00:00:00","00:00:00",null,null,null,null,"00:00:00",null,null,null,null,"00:00:00","00:00:00"]
[null,null,null,null,null,null,null,null,null,"00:00:00",null,null,null,null,null,"00:00:00","00:00:00",null,null,null,null,"00:00:00",null,null,null,null,"00:00:00","00:00:00"]
[null,null,null,null,null,null,null,null,null,"00:00:00",null,null,null,null,null,"00:00:00","00:00:00",null,null,null,null,"00:00:00",null,null,null,null,"00:00:00","00:00:00"]
[null,null,null,null,null,null,null,null,null,"00:00:00",null,null,null,null,null,"00:00:00","00:00:00",null,null,null,null,"00:00:00",null,null,null,null,"00:00:00","00:00:00"]
[null,null,null,null,null,null,null,null,null,"00:00:00",null,null,null,null,null,"00:00:00","00:00:00",null,null,null,null,"00:00:00",null,null,null,null,"00:00:00","00:00:00"]
[null,null,null,null,null,null,null,null,null,"00:00:00",null,null,null,null,null,"00:00:00","00:00:00",null,null,null,null,"00:00:00",null,null,null,null,"00:00:00","00:00:00"]
[null,null,null,null,null,null,null,null,null,"00:00:00",null,null,null,null,null,"00:00:00","00:00:00",null,null,null,null,"00:00:00",null,null,null,null,"00:00:00","00:00:00"]
[null,null,null,null,null,null,null,null,null,"00:00:00",null,null,null,null,null,"00:00:00","00:00:00",null,null,null,null,"00:00:00",null,null,null,null,"00:00:00","00:00:00"]
[null,null,null,null,null,null,null,null,null,"00:00:00",null,null,null,null,null,"00:00:00","00:00:00",null,null,null,null,"00:00:00",null,null,null,null,"00:00:00","00:00:00"]
[null,null,null,null,null,null,null,null,null,"00:00:00",null,null,null,null,null,"00:00:00","00:00:00",null,null,null,null,"00:00:00",null,null,null,null,"00:00:00","00:00:00"]
[null,null,null,null,null,null,null,null,null,"00:00:00",null,null,null,null,null,"00:00:00","00:00:00",null,null,null,null,"00:00:00",null,null,null,null,"00:00:00","00:00:00"]
[null,null,null,null,null,null,null,null,null,"00:00:00",null,null,null,null,null,"00:00:00","00:00:00",null,null,null,null,"00:00:00",null,null,null,null,{"$f":"Z197-U197","v":"00:00:00"},{"$f":"SUM(AA197,J197,Q197,V197,)","v":"00:00:00"}]
[null,null,null,null,null,null,null,null,null,"00:00:00",null,null,null,null,null,"00:00:00","00:00:00",null,null,null,null,"00:00:00",null,null,null,null,"00:00:00","00:00:00"]
[null,null,null,null,null,null,null,null,null,"00:00:00",null,null,null,null,null,"00:00:00","00:00:00",null,null,null,null,"00:00:00",null,null,null,null,"00:00:00","00:00:00"]
[null,null,null,null,null,null,null,null,null,"00:00:00",null,null,null,null,null,"00:00:00","00:00:00",null,null,null,null,"00:00:00",null,null,null,null,"00:00:00","00:00:00"]
[null,null,null,null,null,null,null,null,null,"00:00:00",null,null,null,null,null,"00:00:00","00:00:00",null,null,null,null,"00:00:00",null,null,null,null,"00:00:00","00:00:00"]
[null,null,null,null,null,null,null,null,null,"00:00:00",null,null,null,null,null,"00:00:00","00:00:00",null,null,null,null,"00:00:00",null,null,null,null,"00:00:00","00:00:00"]
[null,null,null,null,null,null,null,null,null,"00:00:00",null,null,null,null,null,"00:00:00","00:00:00",null,null,null,null,"00:00:00",null,null,null,null,"00:00:00","00:00:00"]
[null,null,null,null,null,null,null,null,null,"00:00:00",null,null,null,null,null,"00:00:00","00:00:00",null,null,null,null,"00:00:00",null,null,null,null,"00:00:00","00:00:00"]
[null,null,null,null,null,null,null,null,null,"00:00:00",null,null,null,null,null,"00:00:00","00:00:00",null,null,null,null,"00:00:00",null,null,null,null,"00:00:00","00:00:00"]
[null,null,null,null,null,null,null,null,null,"00:00:00",null,null,null,null,null,"00:00:00","00:00:00",null,null,null,null,"00:00:00",null,null,null,null,"00:00:00","00:00:00"]
[null,null,null,null,null,null,null,null,null,"00:00:00",null,null,null,null,null,"00:00:00","00:00:00",null,null,null,null,"00:00:00",null,null,null,null,"00:00:00","00:00:00"]
[null,null,null,null,null,null,null,null,null,"00:00:00",null,null,null,null,null,"00:00:00","00:00:00",null,null,null,null,"00:00:00",null,null,null,null,"00:00:00","00:00:00"]
[null,null,null,null,null,null,null,null,null,{"$f":"I209","v":"00:00:00"},null,null,null,null,null,"00:00:00","00:00:00",null,null,null,null,"00:00:00",null,null,null,null,"00:00:00","00:00:00"]
[null,null,null,null,null,null,null,null,null,"00:00:00",null,null,null,null,null,"00:00:00","00:00:00",null,null,null,null,"00:00:00",null,null,null,null,"00:00:00","00:00:00"]
[null,null,null,null,null,null,null,null,null,"00:00:00",null,null,null,null,null,"00:00:00","00:00:00",null,null,null,null,"00:00:00",null,null,null,null,"00:00:00","00:00:00"]
[null,null,null,null,null,null,null,null,null,"00:00:00",null,null,null,null,null,"00:00:00","00:00:00",null,null,null,null,"00:00:00",null,null,null,null,"00:00:00","00:00:00"]
[null,null,null,null,null,null,null,null,null,"00:00:00",null,null,null,null,null,"00:00:00","00:00:00",null,null,null,null,"00:00:00",null,null,null,null,"00:00:00","00:00:00"]
[null,null,null,null,null,null,null,null,null,"00:00:00",null,null,null,null,null,"00:00:00","00:00:00",null,null,null,null,"00:00:00",null,null,null,null,"00:00:00","00:00:00"]
[null,null,null,null,null,null,null,null,null,"00:00:00",null,null,null,null,null,"00:00:00","00:00:00",null,null,null,null,"00:00:00",null,null,null,null,"00:00:00","00:00:00"]
[null,null,null,null,null,null,null,null,null,"00:00:00",null,null,null,null,null,"00:00:00","00:00:00",null,null,null,null,"00:00:00",null,null,null,null,"00:00:00","00:00:00"]
[null,null,null,null,null,null,null,null,null,"00:00:00",null,null,null,null,null,"00:00:00","00:00:00",null,null,null,null,"00:00:00",null,null,null,null,"00:00:00","00:00:00"]
[null,null,null,null,null,null,null,null,null,"00:00:00",null,null,null,null,null,"00:00:00","00:00:00",null,null,null,null,"00:00:00",null,null,null,null,"00:00:00","00:00:00"]
[null,null,null,null,null,null,null,null,null,"00:00:00",null,null,null,null,null,"00:00:00","00:00:00",null,null,null,null,"00:00:00",null,null,null,null,"00:00:00","00:00:00"]
[null,null,null,null,null,null,null,null,null,"00:00:00",null,null,null,null,null,"00:00:00","00:00:00",null,null,null,null,"00:00:00",null,null,null,null,"00:00:00","00:00:00"]
[null,null,null,null,null,null,null,null,null,"00:00:00",null,null,null,null,null,"00:00:00","00:00:00",null,null,null,null,"00:00:00",null,null,null,null,"00:00:00","00:00:00"]
[null,null,null,null,null,null,null,null,null,"00:00:00",null,null,null,null,null,"00:00:00","00:00:00",null,null,null,null,"00:00:00",null,null,null,null,"00:00:00","00:00:00"]
[null,null,null,null,null,null,null,null,null,"00:00:00",null,null,null,null,null,"00:00:00","00:00:00",null,null,null,null,"00:00:00",null,null,null,null,"00:00:00","00:00:00"]
[null,null,null,null,null,null,null,null,null,"00:00:00",null,null,null,null,null,"00:00:00","00:00:00",null,null,null,null,"00:00:00",null,null,null,null,"00:00:00","00:00:00"]
[null,null,null,null,null,null,null,null,null,"00:00:00",null,null,null,null,null,"00:00:00","00:00:00",null,null,null,null,"00:00:00",null,null,null,null,"00:00:00","00:00:00"]
[null,null,null,null,null,null,null,null,null,"00:00:00",null,null,null,null,null,"00:00:00","00:00:00",null,null,null,null,"00:00:00",null,null,null,null,"00:00:00","00:00:00"]
[null,null,null,null,null,null,null,null,null,"00:00:00",null,null,null,null,null,{"$f":"N227-O227","v":"00:00:00"},{"$f":"P227-I227","v":"00:00:00"},null,null,null,null,"00:00:00",null,null,null,null,"00:00:00","00:00:00"]
[null,null,null,null,null,null,null,null,null,"00:00:00",null,null,null,null,null,"00:00:00","00:00:00",null,null,null,null,"00:00:00",null,null,null,null,"00:00:00","00:00:00"]
[null,null,null,null,null,null,null,null,null,"00:00:00",null,null,null,null,null,"00:00:00","00:00:00",null,null,null,null,"00:00:00",null,null,null,null,"00:00:00","00:00:00"]
[null,null,null,null,null,null,null,null,null,"00:00:00",null,null,null,null,null,"00:00:00","00:00:00",null,null,null,null,"00:00:00",null,null,null,null,"00:00:00","00:00:00"]
[null,null,null,null,null,null,null,null,null,"00:00:00",null,null,null,null,null,"00:00:00","00:00:00",null,null,null,null,"00:00:00",null,null,null,null,"00:00:00","00:00:00"]
[null,null,null,null,null,null,null,null,null,"00:00:00",null,null,null,null,null,"00:00:00","00:00:00",null,null,null,null,"00:00:00",null,null,null,null,"00:00:00","00:00:00"]
[null,null,null,null,null,null,null,null,null,"00:00:00",null,null,null,null,null,"00:00:00","00:00:00",null,null,null,null,"00:00:00",null,null,null,null,"00:00:00","00:00:00"]
[null,null,null,null,null,null,null,null,null,"00:00:00",null,null,null,null,null,"00:00:00","00:00:00",null,null,null,null,"00:00:00",null,null,null,null,"00:00:00","00:00:00"]
[null,null,null,null,null,null,null,null,null,"00:00:00",null,null,null,null,null,"00:00:00","00:00:00",null,null,null,null,"00:00:00",null,null,null,null,"00:00:00","00:00:00"]
[null,null,null,null,null,null,null,null,null,"00:00:00",null,null,null,null,null,"00:00:00","00:00:00",null,null,null,null,"00:00:00",null,null,null,null,"00:00:00","00:00:00"]
[null,null,null,null,null,null,null,null,null,"00:00:00",null,null,null,null,null,"00:00:00","00:00:00",null,null,null,null,"00:00:00",null,null,null,null,"00:00:00","00:00:00"]
[null,null,null,null,null,null,null,null,null,"00:00:00",null,null,null,null,null,"00:00:00","00:00:00",null,null,null,null,"00:00:00",null,null,null,null,"00:00:00","00:00:00"]
[null,null,null,null,null,null,null,null,null,"00:00:00",null,null,null,null,null,"00:00:00","00:00:00",null,null,null,null,"00:00:00",null,null,null,null,"00:00:00","00:00:00"]
[null,null,null,null,null,null,null,null,null,"00:00:00",null,null,null,null,null,"00:00:00","00:00:00",null,null,null,null,"00:00:00",null,null,null,null,"00:00:00","00:00:00"]
[null,null,null,null,null,null,null,null,null,"00:00:00",null,null,null,null,null,"00:00:00","00:00:00",null,null,null,null,"00:00:00",null,null,null,null,"00:00:00","00:00:00"]
[null,null,null,null,null,null,null,null,null,"00:00:00",null,null,null,null,null,"00:00:00","00:00:00",null,null,null,null,"00:00:00",null,null,null,null,"00:00:00","00:00:00"]
[null,null,null,null,null,null,null,null,null,"00:00:00",null,null,null,null,null,"00:00:00","00:00:00",null,null,null,null,{"$f":"U243-N243","v":"00:00:00"},null,null,null,null,"00:00:00","00:00:00"]
[null,null,null,null,null,null,null,null,null,"00:00:00",null,null,null,null,null,"00:00:00","00:00:00",null,null,null,null,"00:00:00",null,null,null,null,"00:00:00","00:00:00"]
[null,null,null,null,null,null,null,null,null,"00:00:00",null,null,null,null,null,"00:00:00","00:00:00",null,null,null,null,"00:00:00",null,null,null,null,"00:00:00","00:00:00"]
[null,null,null,null,null,null,null,null,null,"00:00:00",null,null,null,null,null,"00:00:00","00:00:00",null,null,null,null,"00:00:00",null,null,null,null,"00:00:00","00:00:00"]
[null,null,null,null,null,null,null,null,null,"00:00:00",null,null,null,null,null,"00:00:00","00:00:00",null,null,null,null,"00:00:00",null,null,null,null,"00:00:00","00:00:00"]
[null,null,null,null,null,null,null,null,null,"00:00:00",null,null,null,null,null,"00:00:00","00:00:00",null,null,null,null,"00:00:00",null,null,null,null,"00:00:00","00:00:00"]
[null,null,null,null,null,null,null,null,null,"00:00:00",null,null,null,null,null,"00:00:00","00:00:00",null,null,null,null,"00:00:00",null,null,null,null,"00:00:00","00:00:00"]
[null,null,null,null,null,null,null,null,null,"00:00:00",null,null,null,null,null,"00:00:00","00:00:00",null,null,null,null,"00:00:00",null,null,null,null,"00:00:00","00:00:00"]
[null,null,null,null,null,null,null,null,null,"00:00:00",null,null,null,null,null,"00:00:00","00:00:00",null,null,null,null,"00:00:00",null,null,null,null,"00:00:00","00:00:00"]
[null,null,null,null,null,null,null,null,null,"00:00:00",null,null,null,null,null,"00:00:00","00:00:00",null,null,null,null,"00:00:00",null,null,null,null,"00:00:00","00:00:00"]
[null,null,null,null,null,null,null,null,null,"00:00:00",null,null,null,null,null,"00:00:00","00:00:00",null,null,null,null,"00:00:00",null,null,null,null,"00:00:00","00:00:00"]
[null,null,null,null,null,null,null,null,null,"00:00:00",null,null,null,null,null,"00:00:00","00:00:00",null,null,null,null,"00:00:00",null,null,null,null,"00:00:00","00:00:00"]
[null,null,null,null,null,null,null,null,null,"00:00:00",null,null,null,null,null,"00:00:00","00:00:00",null,null,null,null,"00:00:00",null,null,null,null,"00:00:00","00:00:00"]
[null,null,null,null,null,null,null,null,null,"00:00:00",null,null,null,null,null,"00:00:00","00:00:00",null,null,null,null,"00:00:00",null,null,null,null,"00:00:00","00:00:00"]
[null,null,null,null,null,null,null,null,null,"00:00:00",null,null,null,null,null,"00:00:00","00:00:00",null,null,null,null,"00:00:00",null,null,null,null,"00:00:00","00:00:00"]
[null,null,null,null,null,null,null,null,null,"00:00:00",null,null,null,null,null,"00:00:00","00:00:00",null,null,null,null,"00:00:00",null,null,null,null,"00:00:00","00:00:00"]
[null,null,null,null,null,null,null,null,null,"00:00:00",null,null,null,null,null,"00:00:00","00:00:00",null,null,null,null,"00:00:00",null,null,null,null,"00:00:00","00:00:00"]
[null,null,null,null,null,null,null,null,null,"00:00:00",null,null,null,null,null,"00:00:00","00:00:00",null,null,null,null,"00:00:00",null,null,null,null,"00:00:00","00:00:00"]
[null,null,null,null,null,null,null,null,null,"00:00:00",null,null,null,null,null,"00:00:00","00:00:00",null,null,null,null,"00:00:00",null,null,null,null,{"$f":"Z261-U261","v":"00:00:00"},{"$f":"SUM(AA261,J261,Q261,V261,)","v":"00:00:00"}]
[null,null,null,null,null,null,null,null,null,"00:00:00",null,null,null,null,null,"00:00:00","00:00:00",null,null,null,null,"00:00:00",null,null,null,null,"00:00:00","00:00:00"]
[null,null,null,null,null,null,null,null,null,"00:00:00",null,null,null,null,null,"00:00:00","00:00:00",null,null,null,null,"00:00:00",null,null,null,null,"00:00:00","00:00:00"]
[null,null,null,null,null,null,null,null,null,"00:00:00",null,null,null,null,null,"00:00:00","00:00:00",null,null,null,null,"00:00:00",null,null,null,null,"00:00:00","00:00:00"]
[null,null,null,null,null,null,null,null,null,"00:00:00",null,null,null,null,null,"00:00:00","00:00:00",null,null,null,null,"00:00:00",null,null,null,null,"00:00:00","00:00:00"]
[null,null,null,null,null,null,null,null,null,"00:00:00",null,null,null,null,null,"00:00:00","00:00:00",null,null,null,null,"00:00:00",null,null,null,null,"00:00:00","00:00:00"]
[null,null,null,null,null,null,null,null,null,"00:00:00",null,null,null,null,null,"00:00:00","00:00:00",null,null,null,null,"00:00:00",null,null,null,null,"00:00:00","00:00:00"]
[null,null,null,null,null,null,null,null,null,"00:00:00",null,null,null,null,null,"00:00:00","00:00:00",null,null,null,null,"00:00:00",null,null,null,null,"00:00:00","00:00:00"]
[null,null,null,null,null,null,null,null,null,"00:00:00",null,null,null,null,null,"00:00:00","00:00:00",null,null,null,null,"00:00:00",null,null,null,null,"00:00:00","00:00:00"]
[null,null,null,null,null,null,null,null,null,"00:00:00",null,null,null,null,null,"00:00:00","00:00:00",null,null,null,null,"00:00:00",null,null,null,null,"00:00:00","00:00:00"]
[null,null,null,null,null,null,null,null,null,"00:00:00",null,null,null,null,null,"00:00:00","00:00:00",null,null,null,null,"00:00:00",null,null,null,null,"00:00:00","00:00:00"]
[null,null,null,null,null,null,null,null,null,"00:00:00",null,null,null,null,null,"00:00:00","00:00:00",null,null,null,null,"00:00:00",null,null,null,null,"00:00:00","00:00:00"]
[null,null,null,null,null,null,null,null,null,{"$f":"I273","v":"00:00:00"},null,null,null,null,null,"00:00:00","00:00:00",null,null,null,null,"00:00:00",null,null,null,null,"00:00:00","00:00:00"]
[null,null,null,null,null,null,null,null,null,"00:00:00",null,null,null,null,null,"00:00:00","00:00:00",null,null,null,null,"00:00:00",null,null,null,null,"00:00:00","00:00:00"]
[null,null,null,null,null,null,null,null,null,"00:00:00",null,null,null,null,null,"00:00:00","00:00:00",null,null,null,null,"00:00:00",null,null,null,null,"00:00:00","00:00:00"]
[null,null,null,null,null,null,null,null,null,"00:00:00",null,null,null,null,null,"00:00:00","00:00:00",null,null,null,null,"00:00:00",null,null,null,null,"00:00:00","00:00:00"]
[null,null,null,null,null,null,null,null,null,"00:00:00",null,null,null,null,null,"00:00:00","00:00:00",null,null,null,null,"00:00:00",null,null,null,null,"00:00:00","00:00:00"]
[null,null,null,null,null,null,null,null,null,"00:00:00",null,null,null,null,null,"00:00:00","00:00:00",null,null,null,null,"00:00:00",null,null,null,null,"00:00:00","00:00:00"]
[null,null,null,null,null,null,null,null,null,"00:00:00",null,null,null,null,null,"00:00:00","00:00:00",null,null,null,null,"00:00:00",null,null,null,null,"00:00:00","00:00:00"]
[null,null,null,null,null,null,null,null,null,"00:00:00",null,null,null,null,null,"00:00:00","00:00:00",null,null,null,null,"00:00:00",null,null,null,null,"00:00:00","00:00:00"]
[null,null,null,null,null,null,null,null,null,"00:00:00",null,null,null,null,null,"00:00:00","00:00:00",null,null,null,null,"00:00:00",null,null,null,null,"00:00:00","00:00:00"]
[null,null,null,null,null,null,null,null,null,"00:00:00",null,null,null,null,null,"00:00:00","00:00:00",null,null,null,null,"00:00:00",null,null,null,null,"00:00:00","00:00:00"]
[null,null,null,null,null,null,null,null,null,"00:00:00",null,null,null,null,null,"00:00:00","00:00:00",null,null,null,null,"00:00:00",null,null,null,null,"00:00:00","00:00:00"]
[null,null,null,null,null,null,null,null,null,"00:00:00",null,null,null,null,null,"00:00:00","00:00:00",null,null,null,null,"00:00:00",null,null,null,null,"00:00:00","00:00:00"]
[null,null,null,null,null,null,null,null,null,"00:00:00",null,null,null,null,null,"00:00:00","00:00:00",null,null,null,null,"00:00:00",null,null,null,null,"00:00:00","00:00:00"]
[null,null,null,null,null,null,null,null,null,"00:00:00",null,null,null,null,null,"00:00:00","00:00:00",null,null,null,null,"00:00:00",null,null,null,null,"00:00:00","00:00:00"]
[null,null,null,null,null,null,null,null,null,"00:00:00",null,null,null,null,null,"00:00:00","00:00:00",null,null,null,null,"00:00:00",null,null,null,null,"00:00:00","00:00:00"]
[null,null,null,null,null,null,null,null,null,"00:00:00",null,null,null,null,null,"00:00:00","00:00:00",null,null,null,null,"00:00:00",null,null,null,null,"00:00:00","00:00:00"]
[null,null,null,null,null,null,null,null,null,"00:00:00",null,null,null,null,null,"00:00:00","00:00:00",null,null,null,null,"00:00:00",null,null,null,null,"00:00:00","00:00:00"]
[null,null,null,null,null,null,null,null,null,"00:00:00",null,null,null,null,null,"00:00:00","00:00:00",null,null,null,null,"00:00:00",null,null,null,null,"00:00:00","00:00:00"]
[null,null,null,null,null,null,null,null,null,"00:00:00",null,null,null,null,null,{"$f":"N291-O291","v":"00:00:00"},{"$f":"P291-I291","v":"00:00:00"},null,null,null,null,"00:00:00",null,null,null,null,"00:00:00","00:00:00"]
[null,null,null,null,null,null,null,null,null,"00:00:00",null,null,null,null,null,"00:00:00","00:00:00",null,null,null,null,"00:00:00",null,null,null,null,"00:00:00","00:00:00"]
[null,null,null,null,null,null,null,null,null,"00:00:00",null,null,null,null,null,"00:00:00","00:00:00",null,null,null,null,"00:00:00",null,null,null,null,"00:00:00","00:00:00"]
[null,null,null,null,null,null,null,null,null,"00:00:00",null,null,null,null,null,"00:00:00","00:00:00",null,null,null,null,"00:00:00",null,null,null,null,"00:00:00","00:00:00"]
[null,null,null,null,null,null,null,null,null,"00:00:00",null,null,null,null,null,"00:00:00","00:00:00",null,null,null,null,"00:00:00",null,null,null,null,"00:00:00","00:00:00"]
[null,null,null,null,null,null,null,null,null,"00:00:00",null,null,null,null,null,"00:00:00","00:00:00",null,null,null,null,"00:00:00",null,null,null,null,"00:00:00","00:00:00"]
[null,null,null,null,null,null,null,null,null,"00:00:00",null,null,null,null,null,"00:00:00","00:00:00",null,null,null,null,"00:00:00",null,null,null,null,"00:00:00","00:00:00"]
[null,null,null,null,null,null,null,null,null,"00:00:00",null,null,null,null,null,"00:00:00","00:00:00",null,null,null,null,"00:00:00",null,null,null,null,"00:00:00","00:00:00"]
[null,null,null,null,null,null,null,null,null,"00:00:00",null,null,null,null,null,"00:00:00","00:00:00",null,null,null,null,"00:00:00",null,null,null,null,"00:00:00","00:00:00"]
[null,null,null,null,null,null,null,null,null,"00:00:00",null,null,null,null,null,"00:00:00","00:00:00",null,null,null,null,"00:00:00",null,null,null,null,"00:00:00","00:00:00"]
[null,null,null,null,null,null,null,null,null,"00:00:00",null,null,null,null,null,"00:00:00","00:00:00",null,null,null,null,"00:00:00",null,null,null,null,"00:00:00","00:00:00"]
[null,null,null,null,null,null,null,null,null,"00:00:00",null,null,null,null,null,"00:00:00","00:00:00",null,null,null,null,"00:00:00",null,null,null,null,"00:00:00","00:00:00"]
[null,null,null,null,null,null,null,null,null,"00:00:00",null,null,null,null,null,"00:00:00","00:00:00",null,null,null,null,"00:00:00",null,null,null,null,"00:00:00","00:00:00"]
[null,null,null,null,null,null,null,null,null,"00:00:00",null,null,null,null,null,"00:00:00","00:00:00",null,null,null,null,"00:00:00",null,null,null,null,"00:00:00","00:00:00"]
[null,null,null,null,null,null,null,null,null,"00:00:00",null,null,null,null,null,"00:00:00","00:00:00",null,null,null,null,"00:00:00",null,null,null,null,"00:00:00","00:00:00"]
[null,null,null,null,null,null,null,null,null,"00:00:00",null,null,null,null,null,"00:00:00","00:00:00",null,null,null,null,"00:00:00",null,null,null,null,"00:00:00","00:00:00"]
[null,null,null,null,null,null,null,null,null,"00:00:00",null,null,null,null,null,"00:00:00","00:00:00",null,null,null,null,{"$f":"U307-N307","v":"00:00:00"},null,null,null,null,"00:00:00","00:00:00"]
[null,null,null,null,null,null,null,null,null,"00:00:00",null,null,null,null,null,"00:00:00","00:00:00",null,null,null,null,"00:00:00",null,null,null,null,"00:00:00","00:00:00"]
[null,null,null,null,null,null,null,null,null,"00:00:00",null,null,null,null,null,"00:00:00","00:00:00",null,null,null,null,"00:00:00",null,null,null,null,"00:00:00","00:00:00"]
[null,null,null,null,null,null,null,null,null,"00:00:00",null,null,null,null,null,"00:00:00","00:00:00",null,null,null,null,"00:00:00",null,null,null,null,"00:00:00","00:00:00"]
[null,null,null,null,null,null,null,null,null,"00:00:00",null,null,null,null,null,"00:00:00","00:00:00",null,null,null,null,"00:00:00",null,null,null,null,"00:00:00","00:00:00"]
[null,null,null,null,null,null,null,null,null,"00:00:00",null,null,null,null,null,"00:00:00","00:00:00",null,null,null,null,"00:00:00",null,null,null,null,"00:00:00","00:00:00"]
[null,null,null,null,null,null,null,null,null,"00:00:00",null,null,null,null,null,"00:00:00","00:00:00",null,null,null,null,"00:00:00",null,null,null,null,"00:00:00","00:00:00"]
[null,null,null,null,null,null,null,null,null,"00:00:00",null,null,null,null,null,"00:00:00","00:00:00",null,null,null,null,"00:00:00",null,null,null,null,"00:00:00","00:00:00"]
[null,null,null,null,null,null,null,null,null,"00:00:00",null,null,null,null,null,"00:00:00","00:00:00",null,null,null,null,"00:00:00",null,null,null,null,"00:00:00","00:00:00"]
[null,null,null,null,null,null,null,null,null,"00:00:00",null,null,null,null,null,"00:00:00","00:00:00",null,null,null,null,"00:00:00",null,null,null,null,"00:00:00","00:00:00"]
[null,null,null,null,null,null,null,null,null,"00:00:00",null,null,null,null,null,"00:00:00","00:00:00",null,null,null,null,"00:00:00",null,null,null,null,"00:00:00","00:00:00"]
[null,null,null,null,null,null,null,null,null,"00:00:00",null,null,null,null,null,"00:00:00","00:00:00",null,null,null,null,"00:00:00",null,null,null,null,"00:00:00","00:00:00"]
[null,null,null,null,null,null,null,null,null,"00:00:00",null,null,null,null,null,"00:00:00","00:00:00",null,null,null,null,"00:00:00",null,null,null,null,"00:00:00","00:00:00"]
[null,null,null,null,null,null,null,null,null,"00:00:00",null,null,null,null,null,"00:00:00","00:00:00",null,null,null,null,"00:00:00",null,null,null,null,"00:00:00","00:00:00"]
[null,null,null,null,null,null,null,null,null,"00:00:00",null,null,null,null,null,"00:00:00","00:00:00",null,null,null,null,"00:00:00",null,null,null,null,"00:00:00","00:00:00"]

{"sheet":"Sheet2","index":2,"n_rows":0,"n_cols":0,"rows_kept":0,"cut":false,"hidden":false,"merged":[]}

{"sheet":"Sheet3","index":3,"n_rows":0,"n_cols":0,"rows_kept":0,"cut":false,"hidden":false,"merged":[]}